BEGIN:VCALENDAR
VERSION:2.0
PRODID:-//Drive Clean Indiana - ECPv4.9.13//NONSGML v1.0//EN
CALSCALE:GREGORIAN
METHOD:PUBLISH
X-WR-CALNAME:Drive Clean Indiana
X-ORIGINAL-URL:https://drivecleanindiana.org
X-WR-CALDESC:Events for Drive Clean Indiana
BEGIN:VTIMEZONE
TZID:America/Chicago
BEGIN:DAYLIGHT
TZOFFSETFROM:-0600
TZOFFSETTO:-0500
TZNAME:CDT
DTSTART:20240310T080000
END:DAYLIGHT
BEGIN:STANDARD
TZOFFSETFROM:-0500
TZOFFSETTO:-0600
TZNAME:CST
DTSTART:20241103T070000
END:STANDARD
TZID:America/Indiana/Indianapolis
BEGIN:DAYLIGHT
TZOFFSETFROM:-0500
TZOFFSETTO:-0400
TZNAME:EDT
DTSTART:20240310T070000
END:DAYLIGHT
BEGIN:STANDARD
TZOFFSETFROM:-0400
TZOFFSETTO:-0500
TZNAME:EST
DTSTART:20241103T060000
END:STANDARD
END:VTIMEZONE
BEGIN:VEVENT
DTSTART;TZID=America/Chicago:20240625T080000
DTEND;TZID=America/Chicago:20240626T170000
DTSTAMP:20260425T204745
CREATED:20240110T151439Z
LAST-MODIFIED:20240110T151550Z
UID:24302-1719302400-1719421200@drivecleanindiana.org
SUMMARY:June 26\, 2024 - IN-Climate Summit
DESCRIPTION:June 26\, 2024 \n \nThe Indiana Climate Summit is the only gathering of professionals\, producers\, and government officials involved in the Midwest’s food and energy industries and climate. This event aims to educate\, inform\, and create a dialogue with the idea of Ag as the Solution. This is an exciting\, first-of-its-kind event\, with the goal of using all of the above strategies to develop a practical dialogue on this confusing topic. \n  \n \n
URL:https://drivecleanindiana.org/event/june-26-2024-in-climate-summit/
ATTACH;FMTTYPE=image/png:https://drivecleanindiana.org/wp-content/uploads/2024/01/IN-climate-summit-1-e1704899738401.png
END:VEVENT
BEGIN:VEVENT
DTSTART;VALUE=DATE:20240626
DTEND;VALUE=DATE:20240628
DTSTAMP:20260425T204745
CREATED:20240422T195105Z
LAST-MODIFIED:20240422T195105Z
UID:24556-1719360000-1719532799@drivecleanindiana.org
SUMMARY:3rd Annual EV Charging Infrastructure Midwest Conference
DESCRIPTION:June 26-27\, 2024 – 3rd Annual EV Charging Infrastructure Midwest Conference \nHilton Chicago | Magnificent Mile Suites \nDrive Clean Indiana will be in attendance and Executive Coalition Director\, Carl Lisek\, will be moderating the session on “Electrifying Transportation – Municipal and City Perspectives” \nThe Midwest is experiencing a surge in EV adoption. Illinois\, Michigan\, and Minnesota are leading the way by implementing supportive legislation and authorizing grant programs. Other Midwestern states are not far behind. With a rich automotive manufacturing heritage and progressive regulatory and political framework\, the Midwest is well-positioned to adapt to the demands of the evolving EV landscape. To sustain and build upon this momentum\, the region must establish an efficient charging infrastructure while actively addressing equity and resilience challenges. This will not only ensure the continued expansion of EV adoption but also play a pivotal role in fostering the overall socio-economic growth of the Midwest region.  \nThe electrification of the transportation sector in the Midwest offers distinctive opportunities for establishing a robust charging network. To address the challenges and explore solutions for advancing resilience\, accessibility\, and equity in Midwest’s charging infrastructure\, Global Transmission Report is hosting its 3rd annual conference on EV Charging Infrastructure Midwest on June 26-27\, 2024 in Hilton Chicago\, Magnificent Mile Suites\, Chicago.   \nThe conference will highlight programs\, opportunities\, technologies\, and solutions to build an efficient charging infrastructure in the Midwest and feature insightful presentations and engaging panel discussions. It will bring together policymakers\, regulators\, utilities\, municipalities\, transportation departments\, charging infrastructure developers\, EVSEs\, OEMs\, investors\, and technology providers to share their plans\, experiences\, perspectives\, best practices\, and lessons learned to accelerate the development of the charging infrastructure in the Midwest. \nLearn more & Register HERE \n  \n
URL:https://drivecleanindiana.org/event/3rd-annual-ev-charging-infrastructure-midwest-conference/
ATTACH;FMTTYPE=image/webp:https://drivecleanindiana.org/wp-content/uploads/2024/04/ev-charging-infrastructure-midwest-logo.webp
END:VEVENT
BEGIN:VEVENT
DTSTART;TZID=America/Indiana/Indianapolis:20240626T130000
DTEND;TZID=America/Indiana/Indianapolis:20240626T140000
DTSTAMP:20260425T204745
CREATED:20240411T161844Z
LAST-MODIFIED:20240411T171251Z
UID:24525-1719406800-1719410400@drivecleanindiana.org
SUMMARY:June 26 - 1 PM ET – Differences Between ESBs and ICE Buses\, ESB Maintenance\, and Bus Request for Proposals (RFPs) Best Practices
DESCRIPTION:June 26 @ 1 PM ET – Differences Between ESBs and ICE Buses\, ESB Maintenance\, and Bus Request for Proposals (RFPs) Best Practice \nThe EPA Clean School Bus Program is co-hosting a webinar series with the Joint Office of Energy and Transportation about various technical assistance topics related to clean school buses. Each webinar will be on the 4th Wednesday of the month at 1 PM ET. Below are the topics and dates. \n \n  \n
URL:https://drivecleanindiana.org/event/june-26-1-pm-et-differences-between-esbs-and-ice-buses-esb-maintenance-and-bus-request-for-proposals-rfps-best-practices/
ATTACH;FMTTYPE=image/jpeg:https://drivecleanindiana.org/wp-content/uploads/2023/11/cleanschoolbuslogo.jpg
END:VEVENT
END:VCALENDAR