BEGIN:VCALENDAR
VERSION:2.0
PRODID:-//Drive Clean Indiana - ECPv4.9.13//NONSGML v1.0//EN
CALSCALE:GREGORIAN
METHOD:PUBLISH
X-WR-CALNAME:Drive Clean Indiana
X-ORIGINAL-URL:https://drivecleanindiana.org
X-WR-CALDESC:Events for Drive Clean Indiana
BEGIN:VTIMEZONE
TZID:America/Chicago
BEGIN:DAYLIGHT
TZOFFSETFROM:-0600
TZOFFSETTO:-0500
TZNAME:CDT
DTSTART:20240310T080000
END:DAYLIGHT
BEGIN:STANDARD
TZOFFSETFROM:-0500
TZOFFSETTO:-0600
TZNAME:CST
DTSTART:20241103T070000
END:STANDARD
END:VTIMEZONE
BEGIN:VEVENT
DTSTART;VALUE=DATE:20240620
DTEND;VALUE=DATE:20240622
DTSTAMP:20260425T114022
CREATED:20240415T143338Z
LAST-MODIFIED:20240415T143423Z
UID:24541-1718841600-1719014399@drivecleanindiana.org
SUMMARY:June 20-21 ISPE Annual Conference
DESCRIPTION:June 20-21 ISPE Annual Conference \nLocation: 502 Event Center\, Carmel\, IN \nDrive Clean Indiana will be speaking at the Annual ISPE Conference on June 21st\, 2024 in Carmel\, IN.  \nMore information coming soon. Stay tuned! \n
URL:https://drivecleanindiana.org/event/june-20-21-ispe-annual-conference/
LOCATION:502 Event Center\, Carmel\, 502 Event Center\, Carmel\, IN\, 46032\, United States
ATTACH;FMTTYPE=image/jpeg:https://drivecleanindiana.org/wp-content/uploads/2024/04/crowleyeng-leaf-jpg.jpg
END:VEVENT
END:VCALENDAR