BEGIN:VCALENDAR
VERSION:2.0
PRODID:-//Drive Clean Indiana - ECPv4.9.13//NONSGML v1.0//EN
CALSCALE:GREGORIAN
METHOD:PUBLISH
X-WR-CALNAME:Drive Clean Indiana
X-ORIGINAL-URL:https://drivecleanindiana.org
X-WR-CALDESC:Events for Drive Clean Indiana
BEGIN:VTIMEZONE
TZID:America/Chicago
BEGIN:DAYLIGHT
TZOFFSETFROM:-0600
TZOFFSETTO:-0500
TZNAME:CDT
DTSTART:20240310T080000
END:DAYLIGHT
BEGIN:STANDARD
TZOFFSETFROM:-0500
TZOFFSETTO:-0600
TZNAME:CST
DTSTART:20241103T070000
END:STANDARD
END:VTIMEZONE
BEGIN:VEVENT
DTSTART;TZID=America/Chicago:20240613T183000
DTEND;TZID=America/Chicago:20240613T203000
DTSTAMP:20260424T213023
CREATED:20240429T182224Z
LAST-MODIFIED:20240429T182224Z
UID:24586-1718303400-1718310600@drivecleanindiana.org
SUMMARY:Home Energy Rebate In-Person Public Listening Session - Evansville
DESCRIPTION:June 13\, 2024 | Thursday | 6:30pm CST – 8:30pm CST \nVenue: TBD \nIndiana Office of Energy Development Home Energy Rebate In-Person Listening Session – Evansville \n\nRegister HERE!\n\n\nFunded by federal legislation and administered through the U.S. Department of Energy\, the State of Indiana will receive approximately $182 million to assist Hoosiers in reducing the cost of energy by improving the energy efficiency of their homes through qualified energy efficiency upgrades\, retrofits\, and high-efficiency appliances. \nThe Home Energy Rebate programs consist of the two separate and distinct energy efficiency-related programs below\, but OED will administer them jointly to maximize impact to Hoosiers. They are expected to become available to Hoosiers in Fall 2024. The timing is subject to change based upon the progress of developing the full program applications and receiving approval from the U.S. Department of Energy. \nIn-person meetings are planned to be held in the following locations. Specific venue locations for the in-person meetings will be announced soon. If you plan to attend an in-person stakeholder engagement meeting\, please register by clicking on the city below where you plan to attend and completing the registration. \n\nAbout the Home Efficiency Rebate Program (HOMES Program)\n\nFocuses on energy efficiency upgrades and retrofits to residential buildings\, both single-family and multi-family dwellings.\nQualified energy efficiency upgrades that achieve at least 20% in energy savings will be eligible for rebates up to the lesser of $2\,000 or 50% of the project cost. Projects that achieve greater energy efficiency savings or occur for a low-income household (less than 80% Area Median Income) may be eligible for greater rebates.\n\n\nAbout the Home Appliance Rebate Program\n\nThe Home Appliance Rebate program is exclusively for low- and moderate-income households (less than 150% Area Median Income) to purchase high-efficiency equipment. Like the HOMES program\, both single-family and multi-family dwellings qualify.\nThe rebate amounts are set by the federal legislation and include equipment such as heat pump water heaters\, heat pumps for space heating and cooling\, stoves\, clothes dryers\, and includes certain electrical upgrades like service load centers and electric wiring.\n\n\n\n\n  \n
URL:https://drivecleanindiana.org/event/home-energy-rebate-in-person-public-listening-session-evansville/
ATTACH;FMTTYPE=image/jpeg:https://drivecleanindiana.org/wp-content/uploads/2023/11/Indiana-Office-of-Energy-Development.jpg
END:VEVENT
END:VCALENDAR