BEGIN:VCALENDAR
VERSION:2.0
PRODID:-//Drive Clean Indiana - ECPv4.9.13//NONSGML v1.0//EN
CALSCALE:GREGORIAN
METHOD:PUBLISH
X-WR-CALNAME:Drive Clean Indiana
X-ORIGINAL-URL:https://drivecleanindiana.org
X-WR-CALDESC:Events for Drive Clean Indiana
BEGIN:VTIMEZONE
TZID:America/Chicago
BEGIN:DAYLIGHT
TZOFFSETFROM:-0600
TZOFFSETTO:-0500
TZNAME:CDT
DTSTART:20230312T080000
END:DAYLIGHT
BEGIN:STANDARD
TZOFFSETFROM:-0500
TZOFFSETTO:-0600
TZNAME:CST
DTSTART:20231105T070000
END:STANDARD
END:VTIMEZONE
BEGIN:VEVENT
DTSTART;VALUE=DATE:20230501
DTEND;VALUE=DATE:20230503
DTSTAMP:20260425T002702
CREATED:20230418T172505Z
LAST-MODIFIED:20230418T172505Z
UID:23497-1682899200-1683071999@drivecleanindiana.org
SUMMARY:May 1 & 2\, 2023- Local Transportation Asset Management Conference
DESCRIPTION:May 1 & 2\, 2023- Local Transportation Asset Management Conference\, 1281 Win Hentschel Blvd\, Suite 2111\nWest Lafayette\, Indiana 47906 \nJoin Drive Clean Indiana at the Local Transportation Asset Management Conference!! \nThe goal of this conference is to provide a wide variety of training that is applicable for transportation providers. Sessions will include: updates to Asset Management requirements\, data collection\, data analysis\, pavement and bridge preservation\, best construction practices\, best fleet and equipment practices\, lowering life cycle costs\, and much more. \nTopics include but are not limited to: \n\nUpdate on changes to the Asset Management Template\nUpdate from the INDOT Bridge Inspection Program\nSessions on Managing ROW and Road use Agreements\nSessions on Project Management\nRenting vs Owning Highway Equipment\nBuild Operate Transfer\nVarious Bridge and Pavement Preservation Treatments\nAsset Management Software Demonstration\n\nGENERAL SCHEDULE \n\nMonday\, May 1 (Day 1) — 9 AM – 4 PM (registration opens at 8:00)\nTuesday\, May 2 (Day 2) — 9 AM – 2 PM (early closure for election day)\n\nPost Conference Workshop: PASER Refresher Course — 2:30 – 4 PM\n\n\n\n\n\n
URL:https://drivecleanindiana.org/event/may-1-2-2023-local-transportation-asset-management-conference/
ATTACH;FMTTYPE=image/jpeg:https://drivecleanindiana.org/wp-content/uploads/2023/04/Ltam-event-purdue-university-2023.jpg
END:VEVENT
END:VCALENDAR