BEGIN:VCALENDAR
VERSION:2.0
PRODID:-//Drive Clean Indiana - ECPv4.9.13//NONSGML v1.0//EN
CALSCALE:GREGORIAN
METHOD:PUBLISH
X-WR-CALNAME:Drive Clean Indiana
X-ORIGINAL-URL:https://drivecleanindiana.org
X-WR-CALDESC:Events for Drive Clean Indiana
BEGIN:VTIMEZONE
TZID:America/Chicago
BEGIN:DAYLIGHT
TZOFFSETFROM:-0600
TZOFFSETTO:-0500
TZNAME:CDT
DTSTART:20230312T080000
END:DAYLIGHT
BEGIN:STANDARD
TZOFFSETFROM:-0500
TZOFFSETTO:-0600
TZNAME:CST
DTSTART:20231105T070000
END:STANDARD
END:VTIMEZONE
BEGIN:VEVENT
DTSTART;TZID=America/Chicago:20230425T130000
DTEND;TZID=America/Chicago:20230425T140000
DTSTAMP:20260424T115732
CREATED:20230414T155946Z
LAST-MODIFIED:20230414T155946Z
UID:23473-1682427600-1682431200@drivecleanindiana.org
SUMMARY:April 25\, 2023 - Gateway Community Workshop Webinar
DESCRIPTION:April 25\, 2023\, 1 p.m. CST – Gateway Community Workshop Webinar \n\n\nGateway communities will play a key role in developing infrastructure around national parks. To support gateway communities and towns surrounding national parks\, the EC will host a free workshop for those working and living in gateway communities\, focusing on applying for federal funding for transportation electrification.  \nPlease email infrastructure@electrificationcoalition.org for an invitation to this workshop.  \n\n\n
URL:https://drivecleanindiana.org/event/april-25-2023-gateway-community-workshop-webinar/
ATTACH;FMTTYPE=image/png:https://drivecleanindiana.org/wp-content/uploads/2023/04/EC-National-Parks-Week-Gateway-Community-Workshop-04-25-2023.png
END:VEVENT
END:VCALENDAR