BEGIN:VCALENDAR
VERSION:2.0
PRODID:-//Drive Clean Indiana - ECPv4.9.13//NONSGML v1.0//EN
CALSCALE:GREGORIAN
METHOD:PUBLISH
X-WR-CALNAME:Drive Clean Indiana
X-ORIGINAL-URL:https://drivecleanindiana.org
X-WR-CALDESC:Events for Drive Clean Indiana
BEGIN:VTIMEZONE
TZID:America/Chicago
BEGIN:DAYLIGHT
TZOFFSETFROM:-0600
TZOFFSETTO:-0500
TZNAME:CDT
DTSTART:20230312T080000
END:DAYLIGHT
BEGIN:STANDARD
TZOFFSETFROM:-0500
TZOFFSETTO:-0600
TZNAME:CST
DTSTART:20231105T070000
END:STANDARD
TZID:America/Indiana/Indianapolis
BEGIN:DAYLIGHT
TZOFFSETFROM:-0500
TZOFFSETTO:-0400
TZNAME:EDT
DTSTART:20230312T070000
END:DAYLIGHT
BEGIN:STANDARD
TZOFFSETFROM:-0400
TZOFFSETTO:-0500
TZNAME:EST
DTSTART:20231105T060000
END:STANDARD
END:VTIMEZONE
BEGIN:VEVENT
DTSTART;TZID=America/Chicago:20230422T090000
DTEND;TZID=America/Chicago:20230422T130000
DTSTAMP:20260424T071552
CREATED:20230104T213120Z
LAST-MODIFIED:20230105T152220Z
UID:23074-1682154000-1682168400@drivecleanindiana.org
SUMMARY:April 22\, 2023 - Earth Day Event at Porter County Expo Center
DESCRIPTION:April 22\, 2023\, 9 a.m. – 1 p.m. – Earth Day Event at Porter County Expo Center\, 215 E Division Rd\, Valparaiso\, IN \nAnnually Earth Day is celebrated on April 22nd across the nation. This date marks the birth of the modern environmental movement in the United States. Today\, Earth Day is widely recognized as the largest secular environmental observance in the world\, marked by more than a billion people every year as a day of action to change human behavior and create global\, national and local policy changes. \nLocally the fight for a clean environment continues with increasing urgency\, as the ravages of climate change become more and more apparent every day. The District remains fully committed in celebrating and recognizing Mother Earth in all her infinite glory on this National Day. \nIf you would like to register as a vendor\, exhibitor\, or sponsor\, please sign up below.\n \n \n
URL:https://drivecleanindiana.org/event/april-22-2023-earth-day-event-at-porter-county-expo-center/
LOCATION:Porter County Expo Center\, 215 E Division Rd\, Valparaiso\, United States
ATTACH;FMTTYPE=image/png:https://drivecleanindiana.org/wp-content/uploads/2023/01/Earth-Day-1.png
END:VEVENT
BEGIN:VEVENT
DTSTART;TZID=America/Indiana/Indianapolis:20230422T090000
DTEND;TZID=America/Indiana/Indianapolis:20230422T120000
DTSTAMP:20260424T071552
CREATED:20230411T134739Z
LAST-MODIFIED:20230411T141449Z
UID:23441-1682154000-1682164800@drivecleanindiana.org
SUMMARY:April 22\, 2023 - Zionsville Greenfest Drive Electric Earth Day event
DESCRIPTION:April 22\, 2023\, 9 a.m. – 12 p.m. EST – Zionsville Greenfest Drive Electric Earth Day event – Zionsville Town Hall\, 1100 W Oak Street\, Zionsville\, IN \nZionsville Greenfest: Think Green\, Act Sustainably \nIn celebration of Earth Day and Arbor Day\, this event connects participants with the resources to become good stewards of the environment. Learn about living sustainably while having fun! Local businesses and organizations will be on hand that provide and promote environmentally friendly goods and services. \nParticipants will have a chance to: \n\nSee a display of electric vehicles and talk to owners about driving electric\nExplore exhibits and displays\nShop local native plant sale provided by United Plants Unlimited\nParticipate in ongoing workshops and presentations on a variety of topics\nCollect a free milkweed plant (while supplies last)\nEvery participant earns a chance to win one of our door prize drawings:  a rain barrel and diverter or home composting setup.\n\nFor up to date information visit www.zionsville-in.gov/specialevents \n \n
URL:https://drivecleanindiana.org/event/april-22-2023-zionsville-greenfest-drive-electric-earth-day-event/
LOCATION:Zionsville Town Hall\, 1100 W Oak Street\, Zionsville\, IN
ATTACH;FMTTYPE=image/png:https://drivecleanindiana.org/wp-content/uploads/2023/04/Zionsville-Green-Fest.png
END:VEVENT
BEGIN:VEVENT
DTSTART;TZID=America/Indiana/Indianapolis:20230422T100000
DTEND;TZID=America/Indiana/Indianapolis:20230422T140000
DTSTAMP:20260424T071552
CREATED:20230411T135622Z
LAST-MODIFIED:20230411T141704Z
UID:23446-1682157600-1682172000@drivecleanindiana.org
SUMMARY:April 22\, 2023 - Indy Creation Fest
DESCRIPTION:April 22\, 2023\, 10 a.m. – 2 p.m. EST – Indy Creation Fest – Grace Church in Noblesville – 5504 E 146th St\, Noblesville\, IN \nJoin us for the second annual Indy Creation Fest\, an open-house style celebration of our calling to love God and our neighbors by joyfully caring for creation! Learn about local sustainable businesses\, sample sustainable cooking\, enjoy free giveaways\, and play games for all ages. \nNo registration needed. Feel free to come by! \nFor more details\, click HERE. \n
URL:https://drivecleanindiana.org/event/april-22-2023-indy-creation-fest/
LOCATION:Grace Church\, 5504 E 146th St\, Noblesville\, IN
ATTACH;FMTTYPE=image/png:https://drivecleanindiana.org/wp-content/uploads/2023/04/Indy-Creation-Fest-1.png
END:VEVENT
BEGIN:VEVENT
DTSTART;TZID=America/Indiana/Indianapolis:20230422T100000
DTEND;TZID=America/Indiana/Indianapolis:20230422T130000
DTSTAMP:20260424T071552
CREATED:20230411T140707Z
LAST-MODIFIED:20230411T140707Z
UID:23455-1682157600-1682168400@drivecleanindiana.org
SUMMARY:April 22\, 2023 - New Albany – Drive Electric Earth Day
DESCRIPTION:April 22\, 2023\, 10 a.m. – 1 p.m. EST – New Albany – Drive Electric Earth Day – 301 E Market Street\, New Albany\, IN \nEarth Charter Indiana and SoIN Citizens Climate Lobby\, along with Drive Electric Earth Day and several other sponsors\, are hosting an Earth Day event in New Albany\, IN on Saturday\, April 22\, 2023.  The event is called “EV’s to trees: Driving Electric Earth Day 2023”.  The location for the event is 301 E. Market Street\, one block away from the New Albany Farmer’s Market.  Evolve KY\, an electric vehicle owner group\, is bringing over their personal EV’s for the purpose of educating people about their experiences with them.  Citizens Climate Lobby will be utilizing the New Albany Tree Trail to teach about the importance of trees to creating a sustainable community and also educating people about bills at the national level that support sustainability.  Earth Charter Indiana will be providing environmental educational materials and information about how Earth Charter Indiana can support groups working for a sustainable future in Indiana.\n\n\n  \n
URL:https://drivecleanindiana.org/event/april-22-2023-new-albany-drive-electric-earth-day/
LOCATION:St. Marks Church\, 301 E. Market St.\, New Albany\, IN
ATTACH;FMTTYPE=image/png:https://drivecleanindiana.org/wp-content/uploads/2023/04/Drive-Electric-Earth-Day-New-Albany.png
END:VEVENT
BEGIN:VEVENT
DTSTART;TZID=America/Indiana/Indianapolis:20230422T130000
DTEND;TZID=America/Indiana/Indianapolis:20230422T160000
DTSTAMP:20260424T071552
CREATED:20230411T140313Z
LAST-MODIFIED:20230411T140313Z
UID:23452-1682168400-1682179200@drivecleanindiana.org
SUMMARY:April 22\, 2023 - Bloomington EV Ride and Drive: Bike to Earth Day
DESCRIPTION:April 22\, 2023\, 1 p.m. – 4 p.m. EST – Bloomington EV Ride and Drive: Bike to Earth Day – Switchyard Park\, 1601 S. Rogers St.\, Bloomington\, IN \nThe City of Bloomington is excited to announce that they will be hosting an EV Ride and Drive: Bike to Earth Day on Saturday\, April 22\, 2023\, at Switchyard Park from 1:00 pm – 4:00 pm.1601\n\nThe EV Ride and Drive event will allow attendees to test drive and ride in various electric-powered vehicles\, from cars to e-bikes. Several local auto manufacturers will have a variety of EV models available for the ride-and-drive portion of the event.\nAdditionally\, EV owners will show their vehicles and answer questions about ownership\, costs\, and charging. Other organizations will also be available with information related to electric vehicles\, such as how and where to charge EVs\, how EVs can improve air quality and reduce CO2 emissions\, how much fun they are to drive\, and how owning an EV can save you money.\n\nRegistration for attendees is not required. If you are an EV owner interested in showcasing your EV vehicle\, please register using the link below.\n\n\n\n\n
URL:https://drivecleanindiana.org/event/april-22-2023-bloomington-ev-ride-and-drive-bike-to-earth-day/
LOCATION:Switchyard Park\, 1601 S Rogers St\, Bloomington\, IN
ATTACH;FMTTYPE=image/png:https://drivecleanindiana.org/wp-content/uploads/2023/04/Bloomington-EV-Ride-and-Drive-Bike-to-Earth-Day.png
END:VEVENT
END:VCALENDAR