BEGIN:VCALENDAR
VERSION:2.0
PRODID:-//Drive Clean Indiana - ECPv4.9.13//NONSGML v1.0//EN
CALSCALE:GREGORIAN
METHOD:PUBLISH
X-WR-CALNAME:Drive Clean Indiana
X-ORIGINAL-URL:https://drivecleanindiana.org
X-WR-CALDESC:Events for Drive Clean Indiana
BEGIN:VTIMEZONE
TZID:America/Chicago
BEGIN:DAYLIGHT
TZOFFSETFROM:-0600
TZOFFSETTO:-0500
TZNAME:CDT
DTSTART:20210314T080000
END:DAYLIGHT
BEGIN:STANDARD
TZOFFSETFROM:-0500
TZOFFSETTO:-0600
TZNAME:CST
DTSTART:20211107T070000
END:STANDARD
END:VTIMEZONE
BEGIN:VEVENT
DTSTART;TZID=America/Chicago:20210914T090000
DTEND;TZID=America/Chicago:20210914T110000
DTSTAMP:20260425T190611
CREATED:20210823T155421Z
LAST-MODIFIED:20210827T144128Z
UID:21547-1631610000-1631617200@drivecleanindiana.org
SUMMARY:September 14\, 2021 - IDEM VW Environmental Mitigation Trust Fund Committee Meeting
DESCRIPTION:September 14\, 2021\, 9 a.m. Central/10 a.m. Eastern – IDEM Volkswagen Environmental Mitigation Trust Fund Committee Meeting \nThe Indiana Volkswagen Environmental Mitigation Trust Fund Committee will meet on Tuesday\, September 14\, 2021\, at 10:00 AM EDT. \nAmong the agenda items are the Round 3 Onroad-Nonroad Project scoring and selection and the Statewide Electric Vehicle Education\, Outreach\, and Marketing solicitation and award recommendation. View the full agenda here \nThe meeting will be at the Indiana State Library\, History Reference Room 211\, located at 315 W. Ohio St. in Indianapolis. \nMembers of the public can also join the meeting via the following Zoom link: \nhttps://zoom.us/j/92345734081?pwd=cHkzSk91M3pHZHpNK2FDOXRMbU5YZz09. \n
URL:https://drivecleanindiana.org/event/september-14-2021-idem-vw-environmental-mitigation-trust-fund-committee-meeting/
ATTACH;FMTTYPE=image/png:https://drivecleanindiana.org/wp-content/uploads/2019/07/IDEM-VW-Logo-for-Web.png
END:VEVENT
END:VCALENDAR