BEGIN:VCALENDAR
VERSION:2.0
PRODID:-//Drive Clean Indiana - ECPv4.9.13//NONSGML v1.0//EN
CALSCALE:GREGORIAN
METHOD:PUBLISH
X-WR-CALNAME:Drive Clean Indiana
X-ORIGINAL-URL:https://drivecleanindiana.org
X-WR-CALDESC:Events for Drive Clean Indiana
BEGIN:VTIMEZONE
TZID:America/New_York
BEGIN:DAYLIGHT
TZOFFSETFROM:-0500
TZOFFSETTO:-0400
TZNAME:EDT
DTSTART:20230312T070000
END:DAYLIGHT
BEGIN:STANDARD
TZOFFSETFROM:-0400
TZOFFSETTO:-0500
TZNAME:EST
DTSTART:20231105T060000
END:STANDARD
END:VTIMEZONE
BEGIN:VEVENT
DTSTART;TZID=America/New_York:20230906T080000
DTEND;TZID=America/New_York:20230906T170000
DTSTAMP:20260423T224048
CREATED:20230621T145444Z
LAST-MODIFIED:20230814T020143Z
UID:23688-1693987200-1694019600@drivecleanindiana.org
SUMMARY:Sept. 6\, 2023 - Clean Cities Stakeholder Summit
DESCRIPTION:Sept. 6\, 2023 – 8 a.m. – 5 p.m. – 2023 Clean Cities Stakeholder Summit\, 7920 Jones Branch Dr\, McLean\, VA \nDrive Clean Indiana and the U.S. Department of Energy (DOE) invite you to the 2023 Clean Cities Stakeholder Summit in celebration of the Clean Cities Coalition Network’s 30th anniversary. The summit will bring together partners from across Clean Cities\, including coalition leaders and stakeholders\, DOE representatives\, and national laboratory staff. \n\nThe summit provides an opportunity to exchange ideas\, be recognized for your commitment to Clean Cities\, and capitalize on the collective expertise of the entire network. Use this wonderful opportunity to network with fellow stakeholders within the same coalition and others. \nRegister by 8/25! \n \n
URL:https://drivecleanindiana.org/event/sept-6-2023-clean-cities-stakeholder-summit/
ATTACH;FMTTYPE=image/png:https://drivecleanindiana.org/wp-content/uploads/2023/06/Clean-Cities-Summit.png
END:VEVENT
END:VCALENDAR