BEGIN:VCALENDAR
VERSION:2.0
PRODID:-//Drive Clean Indiana - ECPv4.9.13//NONSGML v1.0//EN
CALSCALE:GREGORIAN
METHOD:PUBLISH
X-WR-CALNAME:Drive Clean Indiana
X-ORIGINAL-URL:https://drivecleanindiana.org
X-WR-CALDESC:Events for Drive Clean Indiana
BEGIN:VTIMEZONE
TZID:America/Chicago
BEGIN:DAYLIGHT
TZOFFSETFROM:-0600
TZOFFSETTO:-0500
TZNAME:CDT
DTSTART:20250309T080000
END:DAYLIGHT
BEGIN:STANDARD
TZOFFSETFROM:-0500
TZOFFSETTO:-0600
TZNAME:CST
DTSTART:20251102T070000
END:STANDARD
END:VTIMEZONE
BEGIN:VEVENT
DTSTART;TZID=America/Chicago:20251031T080000
DTEND;TZID=America/Chicago:20251031T120000
DTSTAMP:20260421T224933
CREATED:20251028T210900Z
LAST-MODIFIED:20251028T213136Z
UID:26023-1761897600-1761912000@drivecleanindiana.org
SUMMARY:October 31\, 2025 - Business & Economic Outlook Conference
DESCRIPTION:Learn First-Hand What Business Trends are Influencing NWI’s Economy\nSponsored by the Northwest Indiana Business RoundTable (NWIBRT) and the Construction Advancement Foundation of Northwest Indiana (CAF)\, the 2025 Business & Economic Outlook is an informative program designed to provide key insights on trends influencing business and industry. The program will feature presentations from leaders in various business sectors and government agencies\, and conclude with a detailed economic picture of Northwest Indiana and United States. \nPresentations: 8AM – 12PM\nIvy Tech Community College 3100 Ivy Tech Dr.\, Valparaiso\, IN\nThis is a free event for NWIBRT members. \n
URL:https://drivecleanindiana.org/event/october-31-2025-business-economic-outlook-conference/
LOCATION:Ivy Tech Community College\, 3100 Ivy Tech Drive\, Valparaiso\, IN 46383\, 3100 Ivy Tech Drive\, Valparaiso\, 46383\, United States
ATTACH;FMTTYPE=image/png:https://drivecleanindiana.org/wp-content/uploads/2025/10/Screenshot-2025-10-28-at-4.20.28 PM.png
END:VEVENT
END:VCALENDAR