BEGIN:VCALENDAR
VERSION:2.0
PRODID:-//Drive Clean Indiana - ECPv4.9.13//NONSGML v1.0//EN
CALSCALE:GREGORIAN
METHOD:PUBLISH
X-WR-CALNAME:Drive Clean Indiana
X-ORIGINAL-URL:https://drivecleanindiana.org
X-WR-CALDESC:Events for Drive Clean Indiana
BEGIN:VTIMEZONE
TZID:America/Chicago
BEGIN:DAYLIGHT
TZOFFSETFROM:-0600
TZOFFSETTO:-0500
TZNAME:CDT
DTSTART:20250309T080000
END:DAYLIGHT
BEGIN:STANDARD
TZOFFSETFROM:-0500
TZOFFSETTO:-0600
TZNAME:CST
DTSTART:20251102T070000
END:STANDARD
END:VTIMEZONE
BEGIN:VEVENT
DTSTART;TZID=America/Chicago:20251117T080000
DTEND;TZID=America/Chicago:20251117T170000
DTSTAMP:20260421T225147
CREATED:20251105T204532Z
LAST-MODIFIED:20251105T205131Z
UID:26072-1763366400-1763398800@drivecleanindiana.org
SUMMARY:November 17\, 2025 - Strategic Energy Growth Task Force Meeting #2
DESCRIPTION:*MORE INFORMATION ON NOVEMBER MEETING TO COME* \nTo meet the increasing energy demands of the modern economy\, Governor Mike Braun today announced he is creating a Strategic Energy Growth Task Force to create an energy growth plan for Indiana to meet the state’s accelerating demand for reliable\, affordable energy. \n“Indiana’s economy is growing\, and we need new solutions to meet this accelerating energy demand reliably and affordably. My new Strategic Energy Growth Task Force will take an all-of-the-above approach to meet the electricity demands of our growing economy in the short-run\, and plan for Indiana to become an energy export state and national leader in nuclear energy for the long-run – all with a focus on reliability and affordability for Hoosiers.” – Governor Mike Braun  \nDemand for electricity in Indiana is now accelerating rapidly with the reshoring of manufacturing\, data centers for artificial intelligence\, and consumer electrification all contributing to the increase. \nGovernor Mike Braun is taking action to ensure that Indiana’s economic growth and new job opportunities for Hoosiers are not held back by a lack of energy generation and transmission infrastructure. \nThe Strategic Energy Growth Task Force will create an energy growth plan for Indiana\, focused on these priorities: \n\nEnergy reliability and affordability to meet power needs and economic development opportunities now and into the future\nMaking the State of Indiana an energy export state\nMaintaining existing energy generation and developing new generation\nDeploying nuclear energy\n\nThe plan created by the Task Force will provide a short-term 5-year vision as well as a 20-year outlook\, focused on four key objectives: \n\nDEVELOPMENT — Developing Indiana’s energy sector to meet current and future demand\nAFFORDABILITY — Ensuring energy is affordable for Hoosiers\nDIVERSIFICATION —  Taking an “All-of-the-Above” approach to energy policy\nCOLLABORATION — Fostering collaboration and innovation between the state and the private sector to deploy technology to meet the unique opportunities that lie ahead with unprecedented demand and development.\n\nThe Strategic Energy Growth Task Force will engage utilities and other stakeholders to foster cooperation and align strategic plans to meet the state’s electricity growth targets. \nThe Task Force will also analyze the drivers of electricity price and propose actionable solutions to ensure future energy costs are affordable for Hoosiers. \n
URL:https://drivecleanindiana.org/event/november-17-2025-strategic-energy-growth-task-force-meeting-2/
ATTACH;FMTTYPE=image/png:https://drivecleanindiana.org/wp-content/uploads/2025/11/logo_in-seal.png
END:VEVENT
END:VCALENDAR