BEGIN:VCALENDAR
VERSION:2.0
PRODID:-//Drive Clean Indiana - ECPv4.9.13//NONSGML v1.0//EN
CALSCALE:GREGORIAN
METHOD:PUBLISH
X-WR-CALNAME:Drive Clean Indiana
X-ORIGINAL-URL:https://drivecleanindiana.org
X-WR-CALDESC:Events for Drive Clean Indiana
BEGIN:VTIMEZONE
TZID:America/Chicago
BEGIN:DAYLIGHT
TZOFFSETFROM:-0600
TZOFFSETTO:-0500
TZNAME:CDT
DTSTART:20230312T080000
END:DAYLIGHT
BEGIN:STANDARD
TZOFFSETFROM:-0500
TZOFFSETTO:-0600
TZNAME:CST
DTSTART:20231105T070000
END:STANDARD
END:VTIMEZONE
BEGIN:VEVENT
DTSTART;TZID=America/Chicago:20230606T130000
DTEND;TZID=America/Chicago:20230606T150000
DTSTAMP:20260422T014124
CREATED:20230523T191025Z
LAST-MODIFIED:20230523T191025Z
UID:23620-1686056400-1686063600@drivecleanindiana.org
SUMMARY:June 6\, 2023 - NFPA Ready for EVs Virtual Workshop
DESCRIPTION:June 6\, 2023 – 1-3 p.m. – NFPA Ready for EVs Virtual Workshop \nThe NFPA Ready for EVs Virtual Workshop is open to the Gary\, Indiana community. These workshops seek to gather a diverse selection of local community leaders in the interests of developing a plan to accelerate EV adoption. Participants will plan and outline a timeline that reflects the current state of their community and choose the action steps they can take now to support EV adoption for the coming years\, leveraging newly created connections from the session and new knowledge provided by NFPA and Drive Clean Indiana. \nHOW WILL THIS BENEFIT MY COMMUNITY \nHelp create a community EV preparedness plan Learn about current or future community electrification funding opportunities Learn about available resources for your community Network with other enthusiastic community members. \nWHO SHOULD ATTEND THE WORKSHOPS? \nCommunities are made of up organizations and individuals who take on the many tasks of envisioning\, building\, and maintaining a place for many people to live\, work\, and flourish together. Our workshops are open to community leaders of many types! \n\nCommunity members\nLocal vehicle dealerships\nLocal electric vehicle owners / enthusiasts\nPublic planning / code officials\nCharging station installers\nPublic transportation officials Vehicle technicians Insurance adjusters\nLocal fleet managers Utilities / local power companies\nCrash reconstruction experts\n\n \n  \n
URL:https://drivecleanindiana.org/event/nfpa-ready-for-evs-virtual-workshop/
ATTACH;FMTTYPE=image/jpeg:https://drivecleanindiana.org/wp-content/uploads/2023/05/NFPA-Ready-For-EVs.jpg
END:VEVENT
END:VCALENDAR