BEGIN:VCALENDAR
VERSION:2.0
PRODID:-//Drive Clean Indiana - ECPv4.9.13//NONSGML v1.0//EN
CALSCALE:GREGORIAN
METHOD:PUBLISH
X-WR-CALNAME:Drive Clean Indiana
X-ORIGINAL-URL:https://drivecleanindiana.org
X-WR-CALDESC:Events for Drive Clean Indiana
BEGIN:VTIMEZONE
TZID:America/Chicago
BEGIN:DAYLIGHT
TZOFFSETFROM:-0600
TZOFFSETTO:-0500
TZNAME:CDT
DTSTART:20230312T080000
END:DAYLIGHT
BEGIN:STANDARD
TZOFFSETFROM:-0500
TZOFFSETTO:-0600
TZNAME:CST
DTSTART:20231105T070000
END:STANDARD
END:VTIMEZONE
BEGIN:VEVENT
DTSTART;TZID=America/Chicago:20230505T113000
DTEND;TZID=America/Chicago:20230505T130000
DTSTAMP:20260424T052848
CREATED:20230321T160253Z
LAST-MODIFIED:20230321T160253Z
UID:23355-1683286200-1683291600@drivecleanindiana.org
SUMMARY:May 5\, 2023 - NWI Partners for Clean Air Annual Luncheon and Awards Ceremony
DESCRIPTION:May 5\, 2023 – NWI Partners for Clean Air Annual Luncheon and Awards Ceremony – 11:30 a.m. – The Clipper Room at the Hammond Marina \nEstablished in 1998 as part of the Voluntary Clean Air Act\, Partners for Clean Air is a coalition of businesses\, industries\, local governments\, community groups\, and individuals that are committed to improving air quality and public health through voluntary actions in Northwest Indiana. Our vision is to enhance the quality of life in Northwest Indiana by making the air cleaner to breathe for everyone and increase public awareness about the importance of clean air. \nAs part of our mission\, we give back to the Northwest Indiana community by helping qualified students succeed in post-secondary education goals aligned with clean air and public health. Yearly\, we will offer scholarship awards in the amount of $2\,500 to Lake\, Porter\, and Laporte county seniors to help with post-secondary education expenses\, which are announced at our annual luncheon. Additionally\, during our luncheon we will recognize entities that have gone above and beyond their regulatory requirements to improve air quality in Indiana. \nWe invite you to join us to congratulate our scholarship and award winners and learn more about what you can do to protect the air in Northwest Indiana through voluntary actions. There is no cost to attend\, but space is limited so be sure to RSVP early. Registration opens at 11:30 a.m. CDT with the event kicking off at 12:00 p.m. CDT. \nIf you would like to become a member or would like to learn more about Partners for Clean Air\, visit https://www.in.gov/idem/partnerships/partners-for-clean-air/. \n \n
URL:https://drivecleanindiana.org/event/may-5-2023-nwi-partners-for-clean-air-annual-luncheon-and-awards-ceremony/
LOCATION:Hammond Marina\, 701 Casino Center Drive\, Hammond\, IN\, 46320\, United States
ATTACH;FMTTYPE=image/png:https://drivecleanindiana.org/wp-content/uploads/2023/03/NIRPC-Partners-for-Clean-Air-Luncheon-1.png
END:VEVENT
END:VCALENDAR