BEGIN:VCALENDAR
VERSION:2.0
PRODID:-//Drive Clean Indiana - ECPv4.9.13//NONSGML v1.0//EN
CALSCALE:GREGORIAN
METHOD:PUBLISH
X-WR-CALNAME:Drive Clean Indiana
X-ORIGINAL-URL:https://drivecleanindiana.org
X-WR-CALDESC:Events for Drive Clean Indiana
BEGIN:VTIMEZONE
TZID:America/Chicago
BEGIN:DAYLIGHT
TZOFFSETFROM:-0600
TZOFFSETTO:-0500
TZNAME:CDT
DTSTART:20220313T080000
END:DAYLIGHT
BEGIN:STANDARD
TZOFFSETFROM:-0500
TZOFFSETTO:-0600
TZNAME:CST
DTSTART:20221106T070000
END:STANDARD
END:VTIMEZONE
BEGIN:VEVENT
DTSTART;TZID=America/Chicago:20220505T080000
DTEND;TZID=America/Chicago:20220505T090000
DTSTAMP:20260420T111951
CREATED:20220418T202432Z
LAST-MODIFIED:20220423T114408Z
UID:22364-1651737600-1651741200@drivecleanindiana.org
SUMMARY:May 5\, 2022 - Indiana Clean School Bus Webinar
DESCRIPTION:May 5\, 2022\, 8 a.m.-9 a.m. Central – Indiana Clean School Bus Webinar \nJoin Drive Clean Indiana for the Indiana Clean School Bus Webinar! Hear from our partners at the U.S. Environmental Protection Agency about upcoming funding opportunities and learn how Drive Clean Indiana can help you get ready for funding opportunities for clean school buses. Hear from the Indiana Department of Environmental Management about past successes with school bus funding projects. The Webinar is free\, but registration is required. \nScheduled speakers include: \nCarl Lisek\, Executive Director\, Drive Clean Indiana \nShawn Seals\, Senior Environmental Manager\, Indiana Department of Environmental Management \nAnthony Maietta\, Life Scientist\, Region 5 of the U.S. Environmental Protection Agency’s Air and Radiation Division \nMichael LaRocco\, Director of School Transportation\, Indiana Department of Education \nThe Webinar is free\, but registration is required \n \n  \n
URL:https://drivecleanindiana.org/event/may-5-2022-indiana-clean-school-bus-webinar/
ATTACH;FMTTYPE=image/png:https://drivecleanindiana.org/wp-content/uploads/2022/04/Indiana-Clean-School-Bus-Webinar-for-Web.png
END:VEVENT
END:VCALENDAR