BEGIN:VCALENDAR
VERSION:2.0
PRODID:-//Drive Clean Indiana - ECPv4.9.13//NONSGML v1.0//EN
CALSCALE:GREGORIAN
METHOD:PUBLISH
X-WR-CALNAME:Drive Clean Indiana
X-ORIGINAL-URL:https://drivecleanindiana.org
X-WR-CALDESC:Events for Drive Clean Indiana
BEGIN:VTIMEZONE
TZID:America/Chicago
BEGIN:DAYLIGHT
TZOFFSETFROM:-0600
TZOFFSETTO:-0500
TZNAME:CDT
DTSTART:20220313T080000
END:DAYLIGHT
BEGIN:STANDARD
TZOFFSETFROM:-0500
TZOFFSETTO:-0600
TZNAME:CST
DTSTART:20221106T070000
END:STANDARD
END:VTIMEZONE
BEGIN:VEVENT
DTSTART;TZID=America/Chicago:20220524T120000
DTEND;TZID=America/Chicago:20220524T130000
DTSTAMP:20260420T145736
CREATED:20220520T145131Z
LAST-MODIFIED:20220520T145131Z
UID:22454-1653393600-1653397200@drivecleanindiana.org
SUMMARY:May 24\, 2022 - U.S. EPA Clean School Bus Funding Webinar
DESCRIPTION:May 24\, 2022\, 12 p.m.-1 p.m. Central – U.S. EPA Clean School Bus Funding Webinar \nThe program guidance and a list of eligible/prioritized applicants are now posted on the Clean School Bus Program website. Once you have completed the recommended steps to prepare\, please begin filling out your rebate application. \nAuthorized by the recently signed Bipartisan Infrastructure Law\, EPA’s Clean School Bus Program provides $5 billion over the next five years to replace school buses with low- and zero-emission school buses. The first funding opportunity under this program will be the 2022 Clean School Bus Rebates. EPA will offer $500 million for zero-emission and clean school bus rebates. \nJoin the U.S. EPA virtually to learn who is eligible\, what school districts are prioritized\, all about the selection process and which school buses are eligible for rebates. \n \nMore information is available on the U.S. EPA Clean School Bus Website \nClick here to sign up for the EPA Clean School Bus Newsletter  \n\n\n\nQuestions? Contact us!\n\n\nDrive Clean Indiana is leading Indiana organizations to get ready for this funding. Questions? Please reach out for more details at info@drivecleanindiana.org or (219) 644-3690.\n\n\n\n
URL:https://drivecleanindiana.org/event/may-24-2022-u-s-epa-clean-school-bus-funding-webinar/
ATTACH;FMTTYPE=image/png:https://drivecleanindiana.org/wp-content/uploads/2022/05/EPA-Clean-School-Bus-Image-for-Web.png
END:VEVENT
END:VCALENDAR