BEGIN:VCALENDAR
VERSION:2.0
PRODID:-//Drive Clean Indiana - ECPv4.9.13//NONSGML v1.0//EN
CALSCALE:GREGORIAN
METHOD:PUBLISH
X-WR-CALNAME:Drive Clean Indiana
X-ORIGINAL-URL:https://drivecleanindiana.org
X-WR-CALDESC:Events for Drive Clean Indiana
BEGIN:VTIMEZONE
TZID:America/Chicago
BEGIN:DAYLIGHT
TZOFFSETFROM:-0600
TZOFFSETTO:-0500
TZNAME:CDT
DTSTART:20250309T080000
END:DAYLIGHT
BEGIN:STANDARD
TZOFFSETFROM:-0500
TZOFFSETTO:-0600
TZNAME:CST
DTSTART:20251102T070000
END:STANDARD
END:VTIMEZONE
BEGIN:VEVENT
DTSTART;VALUE=DATE:20250513
DTEND;VALUE=DATE:20250526
DTSTAMP:20260422T095542
CREATED:20241205T201110Z
LAST-MODIFIED:20241205T201110Z
UID:25083-1747094400-1748217599@drivecleanindiana.org
SUMMARY:May 13-25\, 2025 - Indianapolis 500
DESCRIPTION:May 13-25\, 2025 – Indianapolis 500 \nExperience the thrill of the Indianapolis 500 at the iconic Indianapolis Motor Speedway! \nKnown as “The Greatest Spectacle in Racing\,” this world-famous event combines high-speed action\, incredible competition\, and an electric atmosphere. Join hundreds of thousands of fans to witness history being made as drivers compete for glory in this legendary race. Don’t miss out on the pageantry\, tradition\, and heart-pounding excitement that make the Indy 500 a must-see event every Memorial Day weekend! \nGet your tickets early to secure your seat for this unforgettable experience!\n
URL:https://drivecleanindiana.org/event/may-13-25-2025-indianapolis-500/
LOCATION:Indianapolis Motor Speedway\, 4790 West 16th Street\, Indianapolis\, IN\, 46222\, United States
ATTACH;FMTTYPE=image/png:https://drivecleanindiana.org/wp-content/uploads/2024/12/2025I-logo-150x180-1.png
END:VEVENT
END:VCALENDAR