BEGIN:VCALENDAR
VERSION:2.0
PRODID:-//Drive Clean Indiana - ECPv4.9.13//NONSGML v1.0//EN
CALSCALE:GREGORIAN
METHOD:PUBLISH
X-WR-CALNAME:Drive Clean Indiana
X-ORIGINAL-URL:https://drivecleanindiana.org
X-WR-CALDESC:Events for Drive Clean Indiana
BEGIN:VTIMEZONE
TZID:America/Chicago
BEGIN:DAYLIGHT
TZOFFSETFROM:-0600
TZOFFSETTO:-0500
TZNAME:CDT
DTSTART:20230312T080000
END:DAYLIGHT
BEGIN:STANDARD
TZOFFSETFROM:-0500
TZOFFSETTO:-0600
TZNAME:CST
DTSTART:20231105T070000
END:STANDARD
END:VTIMEZONE
BEGIN:VEVENT
DTSTART;VALUE=DATE:20230307
DTEND;VALUE=DATE:20230308
DTSTAMP:20260424T092027
CREATED:20221216T162613Z
LAST-MODIFIED:20230106T164908Z
UID:23047-1678147200-1678233599@drivecleanindiana.org
SUMMARY:March  7\, 2023 - Green Truck Summit
DESCRIPTION:Held in conjunction with Work Truck Week\, this annual event provides insights\, solutions and resources in support of the work truck industry’s drive toward achieving greater sustainability\, productivity and efficiency. Green Truck Summit offers intensive programs from industry experts\, government representatives\, fleets\, and vehicle and equipment manufacturers. Sessions address the evolution of the commercial vehicle landscape as the shift toward zero emissions continues to accelerate. \nConference Highlights \n\nKeynote address by Jennifer Rumsey\, president and chief executive officer (CEO) of Cummins Inc.\nChallenges and opportunities in vehicle battery technology\nElectric vehicle (EV) market update and adoption considerations\nGovernment initiatives on advanced vehicle infrastructure\nVehicle idle reduction technology options\nPotential industry impacts of upcoming vehicle emissions regulations\nFuture diesel engine technologies\n\nGreen Truck Summit Conference Package registrants have the opportunity to attend general and breakout sessions on March 7\, as well as Work Truck Week concurrent sessions on March 7–9.\n
URL:https://drivecleanindiana.org/event/march-7-2023-green-truck-summit/
ATTACH;FMTTYPE=image/png:https://drivecleanindiana.org/wp-content/uploads/2022/12/Green-Truck-Summit-logo.png
END:VEVENT
END:VCALENDAR