BEGIN:VCALENDAR
VERSION:2.0
PRODID:-//Drive Clean Indiana - ECPv4.9.13//NONSGML v1.0//EN
CALSCALE:GREGORIAN
METHOD:PUBLISH
X-WR-CALNAME:Drive Clean Indiana
X-ORIGINAL-URL:https://drivecleanindiana.org
X-WR-CALDESC:Events for Drive Clean Indiana
BEGIN:VTIMEZONE
TZID:America/Chicago
BEGIN:DAYLIGHT
TZOFFSETFROM:-0600
TZOFFSETTO:-0500
TZNAME:CDT
DTSTART:20230312T080000
END:DAYLIGHT
BEGIN:STANDARD
TZOFFSETFROM:-0500
TZOFFSETTO:-0600
TZNAME:CST
DTSTART:20231105T070000
END:STANDARD
END:VTIMEZONE
BEGIN:VEVENT
DTSTART;VALUE=DATE:20230307
DTEND;VALUE=DATE:20230311
DTSTAMP:20260424T091326
CREATED:20230116T190915Z
LAST-MODIFIED:20230223T164140Z
UID:23123-1678147200-1678492799@drivecleanindiana.org
SUMMARY:March 7-10\, 2023 - Work Truck Week
DESCRIPTION:March 7-10\, 2023 – Work Truck Week – Indiana Convention Center\, Indianapolis\, IN \nFor more than 20 years\, the people who design\, build\, use and maintain the work trucks and equipment the world relies on have gathered every March to see the industry’s latest products and technology\, learn from one another and discuss how to improve the future. \nWhat started as a trade show has evolved to meet the changing needs of the industry. The event has expanded beyond the walls of Indiana Convention Center to encompass hotels\, restaurants\, sports arenas\, concert venues and the streets that connect them. From Monday to Friday\, its energy\, scale and intensity encompass the city — making Work Truck Week a one-of-a-kind industry experience. \n\nGet up close to new equipment offerings from 500 exhibitors\nHear truck OEM plans and upfitter solutions\nIdentify operational improvement strategies\nOptimize commercial vehicle design and specification\nEvaluate vendors’ latest offerings\nMeet with current and prospective customers\nFind new business opportunities and ways to stay competitive\nCollaborate with management\, product and engineering teams\n\n \nUSE Promo Code DCI23 for free passes. \n
URL:https://drivecleanindiana.org/event/march-7-10-2023-work-truck-week/
ATTACH;FMTTYPE=image/png:https://drivecleanindiana.org/wp-content/uploads/2023/01/work-truck-week-2.png
END:VEVENT
END:VCALENDAR