BEGIN:VCALENDAR
VERSION:2.0
PRODID:-//Drive Clean Indiana - ECPv4.9.13//NONSGML v1.0//EN
CALSCALE:GREGORIAN
METHOD:PUBLISH
X-WR-CALNAME:Drive Clean Indiana
X-ORIGINAL-URL:https://drivecleanindiana.org
X-WR-CALDESC:Events for Drive Clean Indiana
BEGIN:VTIMEZONE
TZID:America/Chicago
BEGIN:DAYLIGHT
TZOFFSETFROM:-0600
TZOFFSETTO:-0500
TZNAME:CDT
DTSTART:20250309T080000
END:DAYLIGHT
BEGIN:STANDARD
TZOFFSETFROM:-0500
TZOFFSETTO:-0600
TZNAME:CST
DTSTART:20251102T070000
END:STANDARD
END:VTIMEZONE
BEGIN:VEVENT
DTSTART;VALUE=DATE:20250304
DTEND;VALUE=DATE:20250308
DTSTAMP:20260422T132556
CREATED:20241205T195340Z
LAST-MODIFIED:20241205T195356Z
UID:25075-1741046400-1741391999@drivecleanindiana.org
SUMMARY:March 4 - 7\, 2025 - NTEA Work Truck Week
DESCRIPTION:March 4-7\, 2025\n\nJoin us at Work Truck Week!\nUse promo code INDIANA25 for complimentary DCI member access to the Work Truck Week showroom.\nNORTH AMERICA’S LARGEST WORK TRUCK EVENT\nFor more than 20 years\, the people who design\, build\, use and maintain the commercial vehicles and equipment the world relies on have gathered to see the industry’s latest products and technology\, learn from one another and discuss how to improve the future.\nVisit the Show Room Floor \nThe Work Truck Show exhibit hall encompasses commercial vehicles\, equipment and products from 500 industry companies — including chassis\, bodies\, aerial devices\, snow and ice control equipment\, advanced fuels and vehicle technologies\, accessories and components — with many exhibitors revealing or launching new offerings.. \nOther events related to Work Truck Week require a separate purchase. For more information about this event and to register\, click the link below. \nRegister for the Work Truck Show \n\n
URL:https://drivecleanindiana.org/event/march-4-7-2024-ntea-work-truck-week/
LOCATION:Indiana Convention Center\, 100 S. Capitol Ave.\, Indianapolis\, IN\, 46225\, United States
ATTACH;FMTTYPE=image/png:https://drivecleanindiana.org/wp-content/uploads/2024/12/WTW25-logo-Stack-e1733428363122.png
END:VEVENT
END:VCALENDAR