BEGIN:VCALENDAR
VERSION:2.0
PRODID:-//Drive Clean Indiana - ECPv4.9.13//NONSGML v1.0//EN
CALSCALE:GREGORIAN
METHOD:PUBLISH
X-WR-CALNAME:Drive Clean Indiana
X-ORIGINAL-URL:https://drivecleanindiana.org
X-WR-CALDESC:Events for Drive Clean Indiana
BEGIN:VTIMEZONE
TZID:America/Los_Angeles
BEGIN:DAYLIGHT
TZOFFSETFROM:-0800
TZOFFSETTO:-0700
TZNAME:PDT
DTSTART:20230312T100000
END:DAYLIGHT
BEGIN:STANDARD
TZOFFSETFROM:-0700
TZOFFSETTO:-0800
TZNAME:PST
DTSTART:20231105T090000
END:STANDARD
END:VTIMEZONE
BEGIN:VEVENT
DTSTART;VALUE=DATE:20230329
DTEND;VALUE=DATE:20230401
DTSTAMP:20260424T071710
CREATED:20230106T160503Z
LAST-MODIFIED:20230302T202958Z
UID:23089-1680048000-1680307199@drivecleanindiana.org
SUMMARY:March 29 - 31\, 2023 - EV Charging Summit & Expo
DESCRIPTION:EVCS & Expo is the must-attend event for all things EV Charging.  The Summit provides educational sessions focused on financing\, infrastructure\, operability\, and ROI for EV charging. The expansive Expo Hall showcases real solutions\, cost savings\, and technological advances to infrastructure for all commercial and government organizations. \n\n\n\n\nSOLVE immediate implementation problems for your EV charging site\nGAIN direct knowledge from exhibitors showcasing the latest EV infrastructure technologies\nBUILD professional connections in an emerging multi-billion dollar industry\nELIMINATE the risk of being unprepared for the BEV demand\nCASH IN on opportunities in transportation electrification\n\n\n\n\n
URL:https://drivecleanindiana.org/event/march-29-31-2023-ev-charging-summit-expo/
ATTACH;FMTTYPE=image/png:https://drivecleanindiana.org/wp-content/uploads/2023/01/EV-Charging-Summit-23.png
END:VEVENT
END:VCALENDAR