BEGIN:VCALENDAR
VERSION:2.0
PRODID:-//Drive Clean Indiana - ECPv4.9.13//NONSGML v1.0//EN
CALSCALE:GREGORIAN
METHOD:PUBLISH
X-WR-CALNAME:Drive Clean Indiana
X-ORIGINAL-URL:https://drivecleanindiana.org
X-WR-CALDESC:Events for Drive Clean Indiana
BEGIN:VTIMEZONE
TZID:America/Chicago
BEGIN:DAYLIGHT
TZOFFSETFROM:-0600
TZOFFSETTO:-0500
TZNAME:CDT
DTSTART:20240310T080000
END:DAYLIGHT
BEGIN:STANDARD
TZOFFSETFROM:-0500
TZOFFSETTO:-0600
TZNAME:CST
DTSTART:20241103T070000
END:STANDARD
END:VTIMEZONE
BEGIN:VEVENT
DTSTART;VALUE=DATE:20240320
DTEND;VALUE=DATE:20240323
DTSTAMP:20260423T105653
CREATED:20231218T224416Z
LAST-MODIFIED:20240109T185715Z
UID:24229-1710892800-1711151999@drivecleanindiana.org
SUMMARY:March 20-22\, 2024 - EV Charging Summit
DESCRIPTION:March 20-22\, 2024 – EVCS & Expo is the must-attend event for all things EV Charging. The Summit provides educational sessions on financing\, infrastructure\, operability\, and ROI for EV charging. The expansive Expo Hall showcases real solutions\, cost savings\, and technological advances to infrastructure for all commercial and government organizations. \nDCI’s Executive Director\, Carl Lisek\, will be speaking at this summit March 20th @ 9:00 AM – 11 AM (PST) on “Funding Your Infrastructure.” \n \n
URL:https://drivecleanindiana.org/event/march-20-22-2024-ev-charging-summit/
ATTACH;FMTTYPE=image/png:https://drivecleanindiana.org/wp-content/uploads/2023/12/EV-summit-landing-logo-2.png
END:VEVENT
END:VCALENDAR