BEGIN:VCALENDAR
VERSION:2.0
PRODID:-//Drive Clean Indiana - ECPv4.9.13//NONSGML v1.0//EN
CALSCALE:GREGORIAN
METHOD:PUBLISH
X-WR-CALNAME:Drive Clean Indiana
X-ORIGINAL-URL:https://drivecleanindiana.org
X-WR-CALDESC:Events for Drive Clean Indiana
BEGIN:VTIMEZONE
TZID:America/Chicago
BEGIN:DAYLIGHT
TZOFFSETFROM:-0600
TZOFFSETTO:-0500
TZNAME:CDT
DTSTART:20230312T080000
END:DAYLIGHT
BEGIN:STANDARD
TZOFFSETFROM:-0500
TZOFFSETTO:-0600
TZNAME:CST
DTSTART:20231105T070000
END:STANDARD
END:VTIMEZONE
BEGIN:VEVENT
DTSTART;TZID=America/Chicago:20230313T083000
DTEND;TZID=America/Chicago:20230313T123000
DTSTAMP:20260424T091540
CREATED:20230130T191256Z
LAST-MODIFIED:20230201T210459Z
UID:23174-1678696200-1678710600@drivecleanindiana.org
SUMMARY:March 13\, 2023 - Rural Sustainable Energy Day
DESCRIPTION:March 13\, 2023 – Rural Sustainable Energy Day – 9:30 a.m. – 1:30 p.m. EST – IN State Capitol\, South Entrance\, 200 W Washington St. Indianapolis\, IN \nIN-ACRE is dedicating a day to the farmers and landowners of Indiana.  Join us as we talk with farmers and industry stakeholders about sustainability and renewable energy for farmers\, landowners\, and rural communities. \nWhether you’d like to share a positive experience or want legislators to better understand your needs to put projects in place on your farm or community\, we need your voice in this conversation. \nRSVP by February 27 to Michele Bivins at Michele@inclimateindiana.com \n
URL:https://drivecleanindiana.org/event/march-2-2023-rural-sustainable-energy-day/
LOCATION:Indiana State Capitol\, 200 W Washington St.\, Indianapolis\, IN\, United States
ATTACH;FMTTYPE=image/png:https://drivecleanindiana.org/wp-content/uploads/2023/01/Rural-Sustainable-Energy-Day.png
END:VEVENT
END:VCALENDAR