BEGIN:VCALENDAR
VERSION:2.0
PRODID:-//Drive Clean Indiana - ECPv4.9.13//NONSGML v1.0//EN
CALSCALE:GREGORIAN
METHOD:PUBLISH
X-WR-CALNAME:Drive Clean Indiana
X-ORIGINAL-URL:https://drivecleanindiana.org
X-WR-CALDESC:Events for Drive Clean Indiana
BEGIN:VTIMEZONE
TZID:America/Indiana/Indianapolis
BEGIN:DAYLIGHT
TZOFFSETFROM:-0500
TZOFFSETTO:-0400
TZNAME:EDT
DTSTART:20240310T070000
END:DAYLIGHT
BEGIN:STANDARD
TZOFFSETFROM:-0400
TZOFFSETTO:-0500
TZNAME:EST
DTSTART:20241103T060000
END:STANDARD
END:VTIMEZONE
BEGIN:VEVENT
DTSTART;TZID=America/Indiana/Indianapolis:20240319T120000
DTEND;TZID=America/Indiana/Indianapolis:20240319T133000
DTSTAMP:20260423T105448
CREATED:20240314T151426Z
LAST-MODIFIED:20240314T151605Z
UID:24442-1710849600-1710855000@drivecleanindiana.org
SUMMARY:March 19\, 2024 - Introduction to the IRA Tax Credits for Electric School Buses Webinar
DESCRIPTION:March 19\, 2024 – Introduction to the IRA Tax Credits for Electric School Buses Webinar \n12:00-1:30 PM EDT \nThis webinar is intended for school district stakeholders in EPA Region 5\, serving Illinois\, Indiana\, Michigan\, Minnesota\, Ohio\, and Wisconsin and we would greatly appreciate if you could share with your school district networks!  \nRead more here!\nSpeakers in this session will include: \n\nAnthony Maietta\, Environmental Protection Specialist\, U.S. Environmental Protection Agency\nTim Farquer\, Superintendent and Curriculum Director\, Williamsfield Schools\nLidia Henderson\, Associate\, Electric School Bus Initiative at World Resources Institute\n\nRSVP today: https://wri.zoom.us/webinar/register/WN_d0NYevQLRnWKaz4hV1wmRA#/registration.  \nIf you have any questions\, please contact Lidia.Henderson@wri.org \n  \n
URL:https://drivecleanindiana.org/event/march-19-2024-introduction-to-the-ira-tax-credits-for-electric-school-buses-webinar/
ATTACH;FMTTYPE=image/png:https://drivecleanindiana.org/wp-content/uploads/2023/06/Clean-School-Bus-Publisher-e1710429351786.png
END:VEVENT
END:VCALENDAR