BEGIN:VCALENDAR
VERSION:2.0
PRODID:-//Drive Clean Indiana - ECPv4.9.13//NONSGML v1.0//EN
CALSCALE:GREGORIAN
METHOD:PUBLISH
X-WR-CALNAME:Drive Clean Indiana
X-ORIGINAL-URL:https://drivecleanindiana.org
X-WR-CALDESC:Events for Drive Clean Indiana
BEGIN:VTIMEZONE
TZID:America/Chicago
BEGIN:DAYLIGHT
TZOFFSETFROM:-0600
TZOFFSETTO:-0500
TZNAME:CDT
DTSTART:20250309T080000
END:DAYLIGHT
BEGIN:STANDARD
TZOFFSETFROM:-0500
TZOFFSETTO:-0600
TZNAME:CST
DTSTART:20251102T070000
END:STANDARD
END:VTIMEZONE
BEGIN:VEVENT
DTSTART;TZID=America/Chicago:20250626T120000
DTEND;TZID=America/Chicago:20250626T130000
DTSTAMP:20260422T080837
CREATED:20250530T145035Z
LAST-MODIFIED:20250530T145100Z
UID:25708-1750939200-1750942800@drivecleanindiana.org
SUMMARY:June 26\, 2025 - Right-Sized Charging: Matching EV Infrastructure to Real-World Behavior in Multifamily Roundtable
DESCRIPTION:Join Charge at Home for their Roundtable Series! This series exists to support multifamily housing (MFH) stakeholders interested in EV charging. Every session\, our panel of subject matter experts will cover an MFH EV charging topic\, answer pre-submitted questions\, and address new questions that come up along the way. \nPresenter: Cinzia Pinamonti\, Orange Charger \nRegister Here: https://forth.zoom.us/meeting/register/ZIOqhnpARmK7VMR6Gmn9GQ#/registration \n
URL:https://drivecleanindiana.org/event/june-26-2025-right-sized-charging-matching-ev-infrastructure-to-real-world-behavior-in-multifamily-roundtable/
ATTACH;FMTTYPE=image/png:https://drivecleanindiana.org/wp-content/uploads/2025/05/Screenshot-2025-05-30-at-9.49.27 AM-1.png
END:VEVENT
END:VCALENDAR