BEGIN:VCALENDAR
VERSION:2.0
PRODID:-//Drive Clean Indiana - ECPv4.9.13//NONSGML v1.0//EN
CALSCALE:GREGORIAN
METHOD:PUBLISH
X-WR-CALNAME:Drive Clean Indiana
X-ORIGINAL-URL:https://drivecleanindiana.org
X-WR-CALDESC:Events for Drive Clean Indiana
BEGIN:VTIMEZONE
TZID:America/Chicago
BEGIN:DAYLIGHT
TZOFFSETFROM:-0600
TZOFFSETTO:-0500
TZNAME:CDT
DTSTART:20230312T080000
END:DAYLIGHT
BEGIN:STANDARD
TZOFFSETFROM:-0500
TZOFFSETTO:-0600
TZNAME:CST
DTSTART:20231105T070000
END:STANDARD
END:VTIMEZONE
BEGIN:VEVENT
DTSTART;TZID=America/Chicago:20230622T130000
DTEND;TZID=America/Chicago:20230622T130000
DTSTAMP:20260421T161423
CREATED:20230606T172533Z
LAST-MODIFIED:20230606T172533Z
UID:23661-1687438800-1687438800@drivecleanindiana.org
SUMMARY:June 22\, 2023 SmartWay Webinar
DESCRIPTION:Thursday\, June 22\, 2023 11:00 AM (PT)/ 1:00 PM (CT)/ 2:00 PM (ET) SmartWay Webinar\n \nFuel Saving Tips and Strategies to Reduce Emissions\, Save Money and Help the Environment \nAre you interested in freight efficiency?  EPA SmartWay invites you to join The Home Depot and HUB Group Inc.\, two longstanding SmartWay partners\, as they share strategies on how to collaborate and work together to set and achieve goals to improve freight efficiency. Topics covered will include effective approaches to strengthen carrier engagement and best practices that have helped both companies maximize efficiency\, lower fuel costs\, shrink their emissions footprint and lead the freight industry forward to greater sustainability. \nSpeakers:\n–Patrice Thornton\, U.S. EPA SmartWay\n–Stephen C. Shook\, The Home Depot\n–Chris Hoffmeister\, HUB Group Inc. \n  \n \n
URL:https://drivecleanindiana.org/event/june-22-2023-smartway-webinar/
ATTACH;FMTTYPE=image/png:https://drivecleanindiana.org/wp-content/uploads/2023/06/85ebd993-42b1-4f83-8254-9aa2130b5418.png
END:VEVENT
END:VCALENDAR