BEGIN:VCALENDAR
VERSION:2.0
PRODID:-//Drive Clean Indiana - ECPv4.9.13//NONSGML v1.0//EN
CALSCALE:GREGORIAN
METHOD:PUBLISH
X-WR-CALNAME:Drive Clean Indiana
X-ORIGINAL-URL:https://drivecleanindiana.org
X-WR-CALDESC:Events for Drive Clean Indiana
BEGIN:VTIMEZONE
TZID:America/Chicago
BEGIN:DAYLIGHT
TZOFFSETFROM:-0600
TZOFFSETTO:-0500
TZNAME:CDT
DTSTART:20250309T080000
END:DAYLIGHT
BEGIN:STANDARD
TZOFFSETFROM:-0500
TZOFFSETTO:-0600
TZNAME:CST
DTSTART:20251102T070000
END:STANDARD
END:VTIMEZONE
BEGIN:VEVENT
DTSTART;TZID=America/Chicago:20250620T120000
DTEND;TZID=America/Chicago:20250620T140000
DTSTAMP:20260422T080751
CREATED:20250520T204111Z
LAST-MODIFIED:20250520T204111Z
UID:25694-1750420800-1750428000@drivecleanindiana.org
SUMMARY:June 20\, 2025 – GOEVIN: Closing the Gap Tour: Hammond
DESCRIPTION:GOEVIN (Go Electric Vehicle Indiana) and Drive Clean Indiana are excited to launch the GOEVIN: Closing the Gap Tour — a multi-stop roadshow dedicated to building awareness and support for expanding electric vehicle (EV) charging infrastructure across Indiana. \nThe GOEVIN: Closing the Gap Tour coincides with new funding opportunities covering up to 75% of the cost for DCFC and Level 2 charging stations. The funding prioritizes locations across Indiana that can deploy DCFC charging infrastructure along the state’s alternative fuel corridors and in-demand Level 2 stations in local communities. Additional details and the intake form are available at goevin.com/programs-and-incentives. All applications are due by June 30\, 2025. \n \nPit Stop Schedule \n\nJune 10 @ 9:30-11:30 a.m. CT: Evansville – Evansville Public Library – Red Bank (120 S. Red Bank Rd.\, Evansville\, IN 47712)\nJune 10 @ 3-5 p.m. EST: Clarksville – Clarksville Town Council (2000 Broadway St.\, Clarksville\, IN 47129)\nJune 11 @ 10 a.m.-12 p.m. EST: Indianapolis – Alamo Drafthouse (3898 Lafayette Rd.\, Indianapolis\, IN 46254)\nJune 11 @ 2-4 p.m. EST: Muncie – Muncie Sanitary District (300 N. High St.\, Muncie\, IN 47305)\nJune 16 @ 3-5 p.m. EST: Fort Wayne – Fort Wayne Public Works (200 E. Berry St.\, Suite 210\, Fort Wayne\, IN 46802)\nJune 17 @ 9-11 a.m. EST: South Bend – South Bend Transportation (1401 S. Lafayette Blvd.\, South Bend\, IN 46613)\nJune 18 @ 11 a.m.-1 p.m. EST: Lafayette – Lafayette Public Works Campus (3601 McCarty Ln.\, Lafayette\, IN 47905)\nJune 20 @ 12-2 p.m. CT: Hammond – South Shore Convention & Visitors Authority (7770 Corinne Dr.\, Hammond\, IN 46323)\n\n
URL:https://drivecleanindiana.org/event/june-20-2025-goevin-closing-the-gap-tour-hammond/
LOCATION:South Shore Convention & Visitor’s Authority\, 7770 Corinne Dr.\, Hammond\, IN\, 46323\, United States
ATTACH;FMTTYPE=image/png:https://drivecleanindiana.org/wp-content/uploads/2025/05/Closing-the-Gap-Tour-Logo_Option-1.png
END:VEVENT
END:VCALENDAR