BEGIN:VCALENDAR
VERSION:2.0
PRODID:-//Drive Clean Indiana - ECPv4.9.13//NONSGML v1.0//EN
CALSCALE:GREGORIAN
METHOD:PUBLISH
X-WR-CALNAME:Drive Clean Indiana
X-ORIGINAL-URL:https://drivecleanindiana.org
X-WR-CALDESC:Events for Drive Clean Indiana
BEGIN:VTIMEZONE
TZID:America/Chicago
BEGIN:DAYLIGHT
TZOFFSETFROM:-0600
TZOFFSETTO:-0500
TZNAME:CDT
DTSTART:20230312T080000
END:DAYLIGHT
BEGIN:STANDARD
TZOFFSETFROM:-0500
TZOFFSETTO:-0600
TZNAME:CST
DTSTART:20231105T070000
END:STANDARD
END:VTIMEZONE
BEGIN:VEVENT
DTSTART;VALUE=DATE:20230602
DTEND;VALUE=DATE:20230603
DTSTAMP:20260422T033845
CREATED:20230321T152555Z
LAST-MODIFIED:20230321T152555Z
UID:23343-1685664000-1685750399@drivecleanindiana.org
SUMMARY:June 2-6\, 2023 - STN Expo
DESCRIPTION:June 2-6\, 2023 – STN Expo\, Indianapolis Convention Center\, Indianapolis\, IN \nAttending the STN EXPO gives you access to the very best in school bus safety and student transportation training\, peer-to-peer networking\, green leadership and the most innovative products and technology companies\, all under one roof. \n \n
URL:https://drivecleanindiana.org/event/june-2-6-2023-stn-expo/
LOCATION:Indianapolis Convention Cetner\, 100 South Capitol Ave.\, Indianapolis\, 46225\, United States
ATTACH;FMTTYPE=image/png:https://drivecleanindiana.org/wp-content/uploads/2023/03/STN-Expo.png
END:VEVENT
END:VCALENDAR