BEGIN:VCALENDAR
VERSION:2.0
PRODID:-//Drive Clean Indiana - ECPv4.9.13//NONSGML v1.0//EN
CALSCALE:GREGORIAN
METHOD:PUBLISH
X-WR-CALNAME:Drive Clean Indiana
X-ORIGINAL-URL:https://drivecleanindiana.org
X-WR-CALDESC:Events for Drive Clean Indiana
BEGIN:VTIMEZONE
TZID:America/Chicago
BEGIN:DAYLIGHT
TZOFFSETFROM:-0600
TZOFFSETTO:-0500
TZNAME:CDT
DTSTART:20230312T080000
END:DAYLIGHT
BEGIN:STANDARD
TZOFFSETFROM:-0500
TZOFFSETTO:-0600
TZNAME:CST
DTSTART:20231105T070000
END:STANDARD
END:VTIMEZONE
BEGIN:VEVENT
DTSTART;TZID=America/Chicago:20230613T080000
DTEND;TZID=America/Chicago:20230613T130000
DTSTAMP:20260421T214433
CREATED:20230510T152631Z
LAST-MODIFIED:20230510T152631Z
UID:23589-1686643200-1686661200@drivecleanindiana.org
SUMMARY:June 13\, 2023- Indiana Posey County Rural Energy Tour
DESCRIPTION:June 13\, 2023\, 8a.m. CST- Indiana Posey County Rural Energy Tour \nIt’s that time of year again where we are gearing up for the Rural Energy Tours\, brought to you by the Indiana Office of Energy Development. These tours aim to educate Hoosiers on what Indiana’s energy resources have to offer and how they work. Join us for one or both tours this June by sending your RSVP to IN-ACRE’s Program Manager\, Michele Bivins. \n \n
URL:https://drivecleanindiana.org/event/june-13-2023-indiana-posey-county-rural-energy-tour/
ATTACH;FMTTYPE=image/jpeg:https://drivecleanindiana.org/wp-content/uploads/2023/05/Indiana-Rural-Energy-Tour-Agenda-Posey-2023-1.jpg
END:VEVENT
END:VCALENDAR