BEGIN:VCALENDAR
VERSION:2.0
PRODID:-//Drive Clean Indiana - ECPv4.9.13//NONSGML v1.0//EN
CALSCALE:GREGORIAN
METHOD:PUBLISH
X-WR-CALNAME:Drive Clean Indiana
X-ORIGINAL-URL:https://drivecleanindiana.org
X-WR-CALDESC:Events for Drive Clean Indiana
BEGIN:VTIMEZONE
TZID:America/Chicago
BEGIN:DAYLIGHT
TZOFFSETFROM:-0600
TZOFFSETTO:-0500
TZNAME:CDT
DTSTART:20230312T080000
END:DAYLIGHT
BEGIN:STANDARD
TZOFFSETFROM:-0500
TZOFFSETTO:-0600
TZNAME:CST
DTSTART:20231105T070000
END:STANDARD
END:VTIMEZONE
BEGIN:VEVENT
DTSTART;TZID=America/Chicago:20230610T100000
DTEND;TZID=America/Chicago:20230610T100000
DTSTAMP:20260421T233125
CREATED:20230516T160224Z
LAST-MODIFIED:20230516T160224Z
UID:23607-1686391200-1686391200@drivecleanindiana.org
SUMMARY:June 10\, 2023- 2023 Highland Walk for the DAV
DESCRIPTION:June 10\, 2023\, 10:00a.m. CST – 2023 Highland Walk for the DAV\, Wicker Memorial Park Highland\, Indiana \nDisabled American Veterans (DAV)- Dedicated to a single purpose: Empowering the USA military service veterans to lead high- quality lives with respect and dignity. \nWhat is the Disabled American Veterans Organization? \nWe are a non-profit organization formed in 1945\, by military veterans who suffered some degree of disability while actively serving our country.  We are a non-partisan organization\, with no political affiliation that neither endorses nor opposes candidates for political office.  The DAV receives no Federal funds.  Dues and contributions fund our organization.  Our not-for-profit tax registration certificate issued on December 13\, 2002 is 0007350910000. \nFulfilling our promises to the men and women who served – We are dedicated to a single purpose: empowering the USA military service veterans to lead high-quality lives with respect and dignity. We accomplish this by ensuring that veterans and their families can access the full range of benefits available to them; fighting for the interests of America’s injured heroes on Capitol Hill; and educating the public about the great sacrifices and needs of veterans transitioning back to civilian life. \n\nProviding free\, professional assistance to veterans and their families in obtaining benefits and services earned through military service and provided by the Department of Veterans Affairs (VA) and other agencies of government.\nProviding outreach concerning its program services to the American people generally\, and to disabled veterans and their families specifically.\nRepresenting the interests of disabled veterans\, their families\, their widowed spouses and their orphans before Congress\, the White House and the Judicial Branch\, as well as state and local government.\nExtending DAV’s mission of hope into the communities where these veterans and their families live through a network of state-level Departments and local chapters.\nProviding a structure through which disabled veterans can express their compassion for their fellow veterans through a variety of volunteer programs.\nWe support the Veterans Life Changing Service – a homeless Veterans home.\nWe support needy Veterans from all walks of life with bill paying support\, home repairs or up lifts.\nOther needy causes that touch the lives of our Veterans as needed\n\nA Legacy of Service\, Hope for the Future \nDAV is the most long-lasting veteran’s advocacy and assistance group in this country. We’ve watched this country change and grow\, and we’ve grown along with it. However\, DAV has never wavered in its core mission to fulfill our country’s promises to the men and women who served. We invite everyone\, veterans and civilian\, men and women\, young and old\, to join us as we stand up for those veterans who risked it all when they stood up for us\, our country\, and our ideals. \n  \nCorporate Sign up sheet \nMedal of Honor Sponsor – $ 500 Donation to the DAV Walk allows for your company to sponsor 20 walkers are paid\, signage on course\, recognition banner and sponsorship on tee shirts \nSilver Star Sponsor – $ 250 Donation to the DAV Walk funds more than 10 walkers\, signage on course and recognition banner. \nBronze Star sponsor – $ 150 Donation to the DAV Walk $150 pledge funds up to 10 walkers and small sign on course. \nIndividual Sign up sheet \nAdults       $25.00 + ($10 for a T-Shirt) \n Kids/Students $10.00 + ($10 for a T-Shirt) \nTee Shirt          $15.00 + for just a T- Shirt \n
URL:https://drivecleanindiana.org/event/june-10-2023-2023-highland-walk-for-the-dav/
ATTACH;FMTTYPE=image/jpeg:https://drivecleanindiana.org/wp-content/uploads/2023/05/dav.jpg
END:VEVENT
END:VCALENDAR