BEGIN:VCALENDAR
VERSION:2.0
PRODID:-//Drive Clean Indiana - ECPv4.9.13//NONSGML v1.0//EN
CALSCALE:GREGORIAN
METHOD:PUBLISH
X-WR-CALNAME:Drive Clean Indiana
X-ORIGINAL-URL:https://drivecleanindiana.org
X-WR-CALDESC:Events for Drive Clean Indiana
BEGIN:VTIMEZONE
TZID:America/Chicago
BEGIN:DAYLIGHT
TZOFFSETFROM:-0600
TZOFFSETTO:-0500
TZNAME:CDT
DTSTART:20230312T080000
END:DAYLIGHT
BEGIN:STANDARD
TZOFFSETFROM:-0500
TZOFFSETTO:-0600
TZNAME:CST
DTSTART:20231105T070000
END:STANDARD
END:VTIMEZONE
BEGIN:VEVENT
DTSTART;TZID=America/Chicago:20230724T180000
DTEND;TZID=America/Chicago:20230724T200000
DTSTAMP:20260421T232703
CREATED:20230707T013552Z
LAST-MODIFIED:20230707T013552Z
UID:23795-1690221600-1690228800@drivecleanindiana.org
SUMMARY:July 24\, 2023 - INDOT Electric Vehicle Public Information Meeting
DESCRIPTION:July 24\, 2023 – 6:00 p.m. – 8:00 p.m. – INDOT Public Information Meeting for Electric Vehicle Program: Meeting #6\, Indiana University Northwest\, Anderson Library Conference Center\, Room 105\, 130 W. 35th Ave.\, Gary\, Indiana 46408 \nThe Indiana Department of Transportation will host public information meetings to provide updates and gather feedback regarding an annual update to the state’s Electric Vehicle (EV) Infrastructure Deployment Plan. \nINTERESTED ATTENDEES MAY PRE-REGISTER ONLINE\, HOWEVER\, REGISTRATION IN ADVANCE IS NOT REQUIRED \n \n
URL:https://drivecleanindiana.org/event/july-24-2023-indot-electric-vehicle-public-information-meeting-2/
ATTACH;FMTTYPE=image/png:https://drivecleanindiana.org/wp-content/uploads/2023/07/INDOT.png
END:VEVENT
END:VCALENDAR