BEGIN:VCALENDAR
VERSION:2.0
PRODID:-//Drive Clean Indiana - ECPv4.9.13//NONSGML v1.0//EN
CALSCALE:GREGORIAN
METHOD:PUBLISH
X-WR-CALNAME:Drive Clean Indiana
X-ORIGINAL-URL:https://drivecleanindiana.org
X-WR-CALDESC:Events for Drive Clean Indiana
BEGIN:VTIMEZONE
TZID:America/Indiana/Indianapolis
BEGIN:DAYLIGHT
TZOFFSETFROM:-0500
TZOFFSETTO:-0400
TZNAME:EDT
DTSTART:20240310T070000
END:DAYLIGHT
BEGIN:STANDARD
TZOFFSETFROM:-0400
TZOFFSETTO:-0500
TZNAME:EST
DTSTART:20241103T060000
END:STANDARD
END:VTIMEZONE
BEGIN:VEVENT
DTSTART;TZID=America/Indiana/Indianapolis:20240724T130000
DTEND;TZID=America/Indiana/Indianapolis:20240724T140000
DTSTAMP:20260423T032541
CREATED:20240411T161955Z
LAST-MODIFIED:20240411T171349Z
UID:24527-1721826000-1721829600@drivecleanindiana.org
SUMMARY:July 24 - 1 PM ET – Battery Overview\, Recycling/End-of-Life Options\, and Warranties
DESCRIPTION:July 24 @ 1 PM ET – Battery Overview\, Recycling/End-of-Life Options\, and Warranties \nThe EPA Clean School Bus Program is co-hosting a webinar series with the Joint Office of Energy and Transportation about various technical assistance topics related to clean school buses. Each webinar will be on the 4th Wednesday of the month at 1 PM ET. Below are the topics and dates. \n \n
URL:https://drivecleanindiana.org/event/july-24-1-pm-et-battery-overview-recycling-end-of-life-options-and-warranties/
ATTACH;FMTTYPE=image/jpeg:https://drivecleanindiana.org/wp-content/uploads/2023/11/cleanschoolbuslogo.jpg
END:VEVENT
END:VCALENDAR