BEGIN:VCALENDAR
VERSION:2.0
PRODID:-//Drive Clean Indiana - ECPv4.9.13//NONSGML v1.0//EN
CALSCALE:GREGORIAN
METHOD:PUBLISH
X-WR-CALNAME:Drive Clean Indiana
X-ORIGINAL-URL:https://drivecleanindiana.org
X-WR-CALDESC:Events for Drive Clean Indiana
BEGIN:VTIMEZONE
TZID:America/Chicago
BEGIN:DAYLIGHT
TZOFFSETFROM:-0600
TZOFFSETTO:-0500
TZNAME:CDT
DTSTART:20230312T080000
END:DAYLIGHT
BEGIN:STANDARD
TZOFFSETFROM:-0500
TZOFFSETTO:-0600
TZNAME:CST
DTSTART:20231105T070000
END:STANDARD
END:VTIMEZONE
BEGIN:VEVENT
DTSTART;TZID=America/Chicago:20230719T150000
DTEND;TZID=America/Chicago:20230719T160000
DTSTAMP:20260421T161337
CREATED:20230630T212309Z
LAST-MODIFIED:20230630T212833Z
UID:23738-1689778800-1689782400@drivecleanindiana.org
SUMMARY:July 19\, 2023 - EPA Clean School Bus Program: Grant Forms\, Popular Q&A\, and Self-Certification Webinar
DESCRIPTION:July 19\, 2023 – 3 p.m. – 4 p.m. – EPA Clean School Bus Program: Grant Forms\, Popular Q&A\, and Self-Certification Webinar \nJoin EPA as they host a series of informative webinars regarding the 2023 Clean School Bus (CSB) Grant Program. Webinars will cover various topics such as fleet planning\, training and maintenance for clean school buses\, funding opportunities\, and more. \n \n
URL:https://drivecleanindiana.org/event/july-19-2023-epa-grant-forms-popular-qa-and-self-certification-webinar/
ATTACH;FMTTYPE=image/png:https://drivecleanindiana.org/wp-content/uploads/2023/06/Publication2.png
END:VEVENT
END:VCALENDAR