BEGIN:VCALENDAR
VERSION:2.0
PRODID:-//Drive Clean Indiana - ECPv4.9.13//NONSGML v1.0//EN
CALSCALE:GREGORIAN
METHOD:PUBLISH
X-WR-CALNAME:Drive Clean Indiana
X-ORIGINAL-URL:https://drivecleanindiana.org
X-WR-CALDESC:Events for Drive Clean Indiana
BEGIN:VTIMEZONE
TZID:America/Chicago
BEGIN:DAYLIGHT
TZOFFSETFROM:-0600
TZOFFSETTO:-0500
TZNAME:CDT
DTSTART:20230312T080000
END:DAYLIGHT
BEGIN:STANDARD
TZOFFSETFROM:-0500
TZOFFSETTO:-0600
TZNAME:CST
DTSTART:20231105T070000
END:STANDARD
END:VTIMEZONE
BEGIN:VEVENT
DTSTART;VALUE=DATE:20230222
DTEND;VALUE=DATE:20230224
DTSTAMP:20260424T103345
CREATED:20230112T163522Z
LAST-MODIFIED:20230221T211735Z
UID:23109-1677024000-1677196799@drivecleanindiana.org
SUMMARY:February 22-23\, 2023 - Transportation Summit 2023 & Beyond
DESCRIPTION:February 22-23\, 2023 – Transportation Summit 2023 & Beyond\, Embassy Suites Plainfield\, 6089 Clarks Creek Road\, Plainfield\, IN \n\n\n\nNETWORKING. EDUCATION. EXHIBITION.   \nThe Transportation Summit is back in 2023 with an eye on the future…  \nThe Transportation Summit is a two-day educational event complete with keynote speakers and experts on the latest in transportation industry trends\, technologies and workforce development. An exhibition area will provide networking opportunities where carrier and allied members can network to learn the latest their company has to offer during breaks\, hosted receptions and meals. \n  \nMember Registration: $295 \nNon-IMTA Member Registration: $395\n\n\n\n  \n\n\n\nAGENDA OVERVIEW \nDay One \n\nUnderstanding Level 1 Inspections\nUnderstanding Zero Emission Vehicle Realities\nBusiness in Indiana\nCybercrimes – Impacts and Preventions\nSteering Today’s Students to Tomorrow’s Professional Drivers\nDriving America’s Youth to The Trucking Industry\nDriver Compensation – Be proactive vs. reactive through wage analysis\n\nDay Two \n\nLegislative Session 2023 Update\nPioneering New Technologies to Sustainably Power the Future\nAutonomous Trucking: Square Peg in a Round Hole\nHiring into the Future\n\n\n\n\n\n
URL:https://drivecleanindiana.org/event/february-22-23-2023-transportation-summit-2023-beyond/
LOCATION:Embassy Suites Plainfield
ATTACH;FMTTYPE=image/png:https://drivecleanindiana.org/wp-content/uploads/2023/01/Transportation-summit-2.png
END:VEVENT
END:VCALENDAR