BEGIN:VCALENDAR
VERSION:2.0
PRODID:-//Drive Clean Indiana - ECPv4.9.13//NONSGML v1.0//EN
CALSCALE:GREGORIAN
METHOD:PUBLISH
X-WR-CALNAME:Drive Clean Indiana
X-ORIGINAL-URL:https://drivecleanindiana.org
X-WR-CALDESC:Events for Drive Clean Indiana
BEGIN:VTIMEZONE
TZID:America/Chicago
BEGIN:DAYLIGHT
TZOFFSETFROM:-0600
TZOFFSETTO:-0500
TZNAME:CDT
DTSTART:20250309T080000
END:DAYLIGHT
BEGIN:STANDARD
TZOFFSETFROM:-0500
TZOFFSETTO:-0600
TZNAME:CST
DTSTART:20251102T070000
END:STANDARD
END:VTIMEZONE
BEGIN:VEVENT
DTSTART;TZID=America/Chicago:20251029T080000
DTEND;TZID=America/Chicago:20251029T170000
DTSTAMP:20260421T225840
CREATED:20250926T183900Z
LAST-MODIFIED:20251028T190330Z
UID:25964-1761724800-1761757200@drivecleanindiana.org
SUMMARY:Drive Clean Indiana Crossroads\, Clean Energy & Transportation October Forum
DESCRIPTION:Drive Clean Indiana\, a U.S. Department of Energy-designated Clean Cities & Communities Coalition\, and its Board of Directors invites you to join us at the inaugural Indiana Crossroads\, Clean Energy & Transportation Forum. The forum aims to unite influential leaders\, business professionals\, educators\, innovators\, and policymakers to collaborate on the future of American fuels in the energy and transportation sectors in Indiana. \nThe Drive Clean Indiana-sponsored forum will build momentum and establish credibility by highlighting opportunities\, valuable content\, and networking opportunities for industry stakeholders. \nThis month’s forum topic is Advancements in Electric Mobility and Infrastructure in Indiana\, featuring State of Indiana representatives from the Department of Environmental Management (IDEM) and Department of Transportation (INDOT) to provide updates on the state and federal electric charging programs. \nAttendance is free\, but please register to secure your spot! \nInterested in becoming a breakfast sponsor? Contact our office today at (219) 644-3690. \n
URL:https://drivecleanindiana.org/event/drive-clean-indiana-crossroads-clean-energy-transportation-october-forum/
LOCATION:Purdue Technology Center Crown Point\, 9800 Connecticut Dr.\, Crown Point\, IN\, 46307\, United States
ATTACH;FMTTYPE=image/png:https://drivecleanindiana.org/wp-content/uploads/2025/09/Crossroads-Forum-Logo.png
END:VEVENT
END:VCALENDAR