BEGIN:VCALENDAR
VERSION:2.0
PRODID:-//Drive Clean Indiana - ECPv4.9.13//NONSGML v1.0//EN
CALSCALE:GREGORIAN
METHOD:PUBLISH
X-WR-CALNAME:Drive Clean Indiana
X-ORIGINAL-URL:https://drivecleanindiana.org
X-WR-CALDESC:Events for Drive Clean Indiana
BEGIN:VTIMEZONE
TZID:America/Indiana/Indianapolis
BEGIN:DAYLIGHT
TZOFFSETFROM:-0500
TZOFFSETTO:-0400
TZNAME:EDT
DTSTART:20230312T070000
END:DAYLIGHT
BEGIN:STANDARD
TZOFFSETFROM:-0400
TZOFFSETTO:-0500
TZNAME:EST
DTSTART:20231105T060000
END:STANDARD
END:VTIMEZONE
BEGIN:VEVENT
DTSTART;TZID=America/Indiana/Indianapolis:20230804T080000
DTEND;TZID=America/Indiana/Indianapolis:20230804T143000
DTSTAMP:20260422T051304
CREATED:20230630T180710Z
LAST-MODIFIED:20230630T180930Z
UID:23727-1691136000-1691159400@drivecleanindiana.org
SUMMARY:August 4\, 2023 - Drive Electric Event\, Goshen EV Display - Goshen\, IN
DESCRIPTION:\nAugust 4\, 2023 – 5:30-8 p.m. EDT – Drive Electric Event Goshen EV Display – Goshen\, IN\n\nGet behind the wheel and experience an electric vehicle first hand! Hear from electric vehicle drivers about their experience. Learn from Drive Clean Indiana what electric vehicles are available locally (both new and used)\, how and where to find electric vehicle charging stations\, what purchasing incentives are available and more!\nElectric vehicle owners are welcome & encouraged to bring their electric vehicles to the event! Test drives may be available at the discretion of drivers.\n \nAll-electric vehicles may include (based on 2021 & 2022):\n– Chevy Bolt EUV & EV\n– Ford F-150 Lightning (City of Goshen)\n– Ford Mustang Mach-E\n– Fiat 500e\n– Kia EV6\n– Kia Niro\n– Nissan LEAF\n\n– Polestar 2\n\n– Rivian R1T\n– Tesla (various models)\n \nPlug-In hybrid vehicles may include:\n– Chrysler Pacifica mini-van\n– Ford C-Max\n– Honda Clarity \n– Kia Niro\n– Toyota Prius Prime\n\n– Toyota RAV4 Prime\n \nCo-hosted by: City of Goshen\, Michiana Area Council of Governments\, Drive Clean Indiana\n\n\n\n\n\n
URL:https://drivecleanindiana.org/event/august-4-2023-drive-electric-event-goshen-ev-display-goshen-in/
ATTACH;FMTTYPE=image/jpeg:https://drivecleanindiana.org/wp-content/uploads/2023/06/EV-Car-Show-Goshen-.jpeg
END:VEVENT
END:VCALENDAR