BEGIN:VCALENDAR
VERSION:2.0
PRODID:-//Drive Clean Indiana - ECPv4.9.13//NONSGML v1.0//EN
CALSCALE:GREGORIAN
METHOD:PUBLISH
X-WR-CALNAME:Drive Clean Indiana
X-ORIGINAL-URL:https://drivecleanindiana.org
X-WR-CALDESC:Events for Drive Clean Indiana
BEGIN:VTIMEZONE
TZID:America/Chicago
BEGIN:DAYLIGHT
TZOFFSETFROM:-0600
TZOFFSETTO:-0500
TZNAME:CDT
DTSTART:20210314T080000
END:DAYLIGHT
BEGIN:STANDARD
TZOFFSETFROM:-0500
TZOFFSETTO:-0600
TZNAME:CST
DTSTART:20211107T070000
END:STANDARD
END:VTIMEZONE
BEGIN:VEVENT
DTSTART;VALUE=DATE:20210830
DTEND;VALUE=DATE:20210903
DTSTAMP:20260425T191413
CREATED:20210128T155836Z
LAST-MODIFIED:20210729T134031Z
UID:20663-1630281600-1630627199@drivecleanindiana.org
SUMMARY:August 30-September 2\, 2021 - ACT Expo 2021
DESCRIPTION:August 30-September 2\, 2021 – ACT Expo 2021\, Long Beach Convention Center\, Long Beach\, California \nACT Expo serves as the official meeting place for transportation executives looking to gain hands-on access to the fuels\, technologies and vehicles driving the future of transportation. Each year\, the show features dozens of product debuts and major announcements from the leading OEMs and suppliers\, unparalleled networking opportunities with the most influential and progressive leaders in the industry\, peer-to-peer learning for progressive fleet operators and access to the most comprehensive assembly of advanced commercial vehicles anywhere. \nSpecial discounted rate available for Drive Clean Indiana members \nACT Expo is offering a special discounted rate for Drive Clean Indiana members. Log in to the Member Center to access the code or call our office at (219) 644-3690 for more information. \n  \n \n
URL:https://drivecleanindiana.org/event/august-30-september-2-2021-act-expo-2021/
ATTACH;FMTTYPE=image/png:https://drivecleanindiana.org/wp-content/uploads/2021/01/ACT-Expo-for-Web.png
END:VEVENT
END:VCALENDAR