BEGIN:VCALENDAR
VERSION:2.0
PRODID:-//Drive Clean Indiana - ECPv4.9.13//NONSGML v1.0//EN
CALSCALE:GREGORIAN
METHOD:PUBLISH
X-WR-CALNAME:Drive Clean Indiana
X-ORIGINAL-URL:https://drivecleanindiana.org
X-WR-CALDESC:Events for Drive Clean Indiana
BEGIN:VTIMEZONE
TZID:America/Chicago
BEGIN:DAYLIGHT
TZOFFSETFROM:-0600
TZOFFSETTO:-0500
TZNAME:CDT
DTSTART:20250309T080000
END:DAYLIGHT
BEGIN:STANDARD
TZOFFSETFROM:-0500
TZOFFSETTO:-0600
TZNAME:CST
DTSTART:20251102T070000
END:STANDARD
END:VTIMEZONE
BEGIN:VEVENT
DTSTART;TZID=America/Chicago:20250803T140000
DTEND;TZID=America/Chicago:20250803T170000
DTSTAMP:20260422T062137
CREATED:20250624T201508Z
LAST-MODIFIED:20250715T154930Z
UID:25762-1754229600-1754240400@drivecleanindiana.org
SUMMARY:August 3\, 2025 - Partners for Clean Air Railcats Day
DESCRIPTION:Join Northwest Indiana Partners for Clean Air for Partners for Clean Air Day at Gary SouthShore RailCats! Enjoy giveaways and information about how you can help support clean air in Northwest Indiana. The game starts at 2 p.m. CT. \nPlease contact ebereolos@drivecleanindiana.org to claim your FREE tickets. \n  \n
URL:https://drivecleanindiana.org/event/august-3-2025-partners-for-clean-air-railcats-day/
LOCATION:Gary SouthShore RailCats Stadium\, 1 Stadium Plaza\, Gary\, IN\, 46402\, United States
ATTACH;FMTTYPE=image/png:https://drivecleanindiana.org/wp-content/uploads/2025/06/PFCA-Railcats-Day-2025.png
END:VEVENT
END:VCALENDAR