BEGIN:VCALENDAR
VERSION:2.0
PRODID:-//Drive Clean Indiana - ECPv4.9.13//NONSGML v1.0//EN
CALSCALE:GREGORIAN
METHOD:PUBLISH
X-WR-CALNAME:Drive Clean Indiana
X-ORIGINAL-URL:https://drivecleanindiana.org
X-WR-CALDESC:Events for Drive Clean Indiana
BEGIN:VTIMEZONE
TZID:America/Chicago
BEGIN:DAYLIGHT
TZOFFSETFROM:-0600
TZOFFSETTO:-0500
TZNAME:CDT
DTSTART:20210314T080000
END:DAYLIGHT
BEGIN:STANDARD
TZOFFSETFROM:-0500
TZOFFSETTO:-0600
TZNAME:CST
DTSTART:20211107T070000
END:STANDARD
END:VTIMEZONE
BEGIN:VEVENT
DTSTART;TZID=America/Chicago:20210829T141000
DTEND;TZID=America/Chicago:20210829T171000
DTSTAMP:20260425T210842
CREATED:20210526T162851Z
LAST-MODIFIED:20210526T162851Z
UID:21223-1630246200-1630257000@drivecleanindiana.org
SUMMARY:August 29\, 2021 - Partners for Clean Air Day at Gary Southshore Railcats
DESCRIPTION:August 29\, 2021\, 2:10 p.m. – Partners for Clean Air Day at Gary Southshore Railcats \nJoin Northwest Indiana Partners for Clean Air for Partners for Clean Air Days at Gary Southshore Railcats! Enjoy giveaways and information about how you can help support Clean Air in Northwest Indiana. Get your tickets now!\n\n\n
URL:https://drivecleanindiana.org/event/august-29-2021-partners-for-clean-air-day-at-gary-southshore-railcats/
ATTACH;FMTTYPE=image/png:https://drivecleanindiana.org/wp-content/uploads/2021/05/PCA-Days-at-Railcats-2021.png
END:VEVENT
END:VCALENDAR