BEGIN:VCALENDAR
VERSION:2.0
PRODID:-//Drive Clean Indiana - ECPv4.9.13//NONSGML v1.0//EN
CALSCALE:GREGORIAN
METHOD:PUBLISH
X-WR-CALNAME:Drive Clean Indiana
X-ORIGINAL-URL:https://drivecleanindiana.org
X-WR-CALDESC:Events for Drive Clean Indiana
BEGIN:VTIMEZONE
TZID:America/New_York
BEGIN:DAYLIGHT
TZOFFSETFROM:-0500
TZOFFSETTO:-0400
TZNAME:EDT
DTSTART:20210314T070000
END:DAYLIGHT
BEGIN:STANDARD
TZOFFSETFROM:-0400
TZOFFSETTO:-0500
TZNAME:EST
DTSTART:20211107T060000
END:STANDARD
END:VTIMEZONE
BEGIN:VEVENT
DTSTART;TZID=America/New_York:20210824T073000
DTEND;TZID=America/New_York:20210824T163000
DTSTAMP:20260425T210551
CREATED:20210716T124515Z
LAST-MODIFIED:20210804T134007Z
UID:21405-1629790200-1629822600@drivecleanindiana.org
SUMMARY:August 24\, 2021 - Summer Agriculture & Policy Forum
DESCRIPTION:August 24\, 2021\, 7:30 a.m.-4:30 p.m. Eastern – Summer Agriculture & Policy Forum: The Intersection of Agriculture\, Renewable Energy & Climate\, Hendricks County Fairgrounds\, Power Expo Hall\, 1900 East Main Street\, Danville\, IN 46122 \n\n\nJoin the Indiana Ag Coalition for Renewable Energy (IN-ACRE) and the Indiana Agriculture-Climate Alliance (IN-Climate) for a two-part summer forum event highlighting Indiana agriculture’s progress\, future opportunities and challenges in renewable energy\, climate and carbon markets. \nThis event features a morning of panel discussions with Indiana farmers and industry professionals about renewable energy followed by lunch featuring keynote speaker\, John Ketzenberger Director of Government Relations at The Nature Conservancy. The afternoon panels will bring new perspectives to Indiana’s climate conversation by exploring how we can and should define climate\, why should agriculture care about climate topics and how companies and agricultural producers are becoming involved and leading the discussion about what’s next. \nDrive Clean Indiana Executive Director Carl Lisek will be on hand as moderator for Panel One at 9 a.m. – Policy\, Markets & Opportunities for On-Farm Renewable Energy! \n \n  \n\n\n
URL:https://drivecleanindiana.org/event/august-24-2021-summer-agriculture-policy-forum/
ATTACH;FMTTYPE=image/png:https://drivecleanindiana.org/wp-content/uploads/2021/07/IN-ACRE-event-logo-for-Web.png
END:VEVENT
END:VCALENDAR