BEGIN:VCALENDAR
VERSION:2.0
PRODID:-//Drive Clean Indiana - ECPv4.9.13//NONSGML v1.0//EN
CALSCALE:GREGORIAN
METHOD:PUBLISH
X-WR-CALNAME:Drive Clean Indiana
X-ORIGINAL-URL:https://drivecleanindiana.org
X-WR-CALDESC:Events for Drive Clean Indiana
BEGIN:VTIMEZONE
TZID:America/Chicago
BEGIN:DAYLIGHT
TZOFFSETFROM:-0600
TZOFFSETTO:-0500
TZNAME:CDT
DTSTART:20210314T080000
END:DAYLIGHT
BEGIN:STANDARD
TZOFFSETFROM:-0500
TZOFFSETTO:-0600
TZNAME:CST
DTSTART:20211107T070000
END:STANDARD
END:VTIMEZONE
BEGIN:VEVENT
DTSTART;TZID=America/Chicago:20210819T100000
DTEND;TZID=America/Chicago:20210819T113000
DTSTAMP:20260425T210600
CREATED:20210712T174723Z
LAST-MODIFIED:20210806T151550Z
UID:21385-1629367200-1629372600@drivecleanindiana.org
SUMMARY:August 19\, 2021 – Propane Autogas Answers Virtual Event
DESCRIPTION:August 19\, 2021\, 10 a.m.-11:30 a.m. CDT – Propane Autogas Answers Virtual Event \nJoin hosts Drive Clean Indiana and Wisconsin Clean Cities for the Propane Autogas Answers Virtual Event sponsored by Propane Education & Research Council!  \nSave travel time and reduce emissions by attending this virtual event without leaving your desk!  \n\nLearn the economic\, environmental & energy security benefits of propane as a motor fuel! \nDiscover what on- & off-road products are available for your fleet! \nUnderstand available financial incentives in Indiana & Wisconsin! \nGain valuable knowledge about installing propane fueling stations! \nHear from national industry leaders!\n\nSpeakers include: \nSteve Whaley\, Director of Autogas Business Development\, Propane Education & Research Council \nChris Ransom\, National Account Manager\, AmeriGas Propane \nRob Arroyo\, Director of Fleet Maintenance\, GO Riteway Transportation Group \nMatt McDonald\, Director of Off-Road Business Development\, Propane Education & Research Council \nJohn Krett\, School District of Arcadia \nBeth West\, Transporte Manager\, City of La Porte TransPorte \nRoger Hildreth\, Energy Development Manager\, ALCIVIA \nLorrie Lisek\, Executive Director\, Wisconsin Clean Cities \nRyan Lisek\, Project Manager\, Drive Clean Indiana \n \n
URL:https://drivecleanindiana.org/event/august-19-2021-propane-autogas-answers-virtual-event/
ATTACH;FMTTYPE=image/png:https://drivecleanindiana.org/wp-content/uploads/2021/07/Propane-Autogas-Answers-Virtual-Event-2021-Logo-for-Web.png
END:VEVENT
END:VCALENDAR