BEGIN:VCALENDAR
VERSION:2.0
PRODID:-//Drive Clean Indiana - ECPv4.9.13//NONSGML v1.0//EN
CALSCALE:GREGORIAN
METHOD:PUBLISH
X-WR-CALNAME:Drive Clean Indiana
X-ORIGINAL-URL:https://drivecleanindiana.org
X-WR-CALDESC:Events for Drive Clean Indiana
BEGIN:VTIMEZONE
TZID:America/Chicago
BEGIN:DAYLIGHT
TZOFFSETFROM:-0600
TZOFFSETTO:-0500
TZNAME:CDT
DTSTART:20230312T080000
END:DAYLIGHT
BEGIN:STANDARD
TZOFFSETFROM:-0500
TZOFFSETTO:-0600
TZNAME:CST
DTSTART:20231105T070000
END:STANDARD
END:VTIMEZONE
BEGIN:VEVENT
DTSTART;VALUE=DATE:20230813
DTEND;VALUE=DATE:20230814
DTSTAMP:20260422T102154
CREATED:20230331T153924Z
LAST-MODIFIED:20230331T153924Z
UID:23410-1691884800-1691971199@drivecleanindiana.org
SUMMARY:August 13\, 2023 - Partners for Clean Air Day at Gary SouthShore RailCats Game
DESCRIPTION:August 13\, 2023 – Partners for Clean Air Day at Gary SouthShore RailCats\, The Steel Yard\, One Stadium Plaza\, Gary\, Indiana \nJoin Northwest Indiana Partners for Clean Air for Partners for Clean Air Day at Gary SouthShore RailCats! Enjoy giveaways and information about how you can help support Clean Air in Northwest Indiana. \nSingle game tickets are available starting Monday\, April 3 at 10:00am\, at the Steel Yard Box Office\, by calling 219-882-2255 or by visiting www.railcatsbaseball.com. \n
URL:https://drivecleanindiana.org/event/august-13-2023-partners-for-clean-air-day-at-gary-southshore-railcats-game/
LOCATION:Gary SouthShore RailCats Stadium\, 1 Stadium Plaza\, Gary\, IN\, 46402\, United States
ATTACH;FMTTYPE=image/png:https://drivecleanindiana.org/wp-content/uploads/2023/03/PCA-RailCats-23.png
END:VEVENT
END:VCALENDAR