BEGIN:VCALENDAR
VERSION:2.0
PRODID:-//Drive Clean Indiana - ECPv4.9.13//NONSGML v1.0//EN
CALSCALE:GREGORIAN
METHOD:PUBLISH
X-WR-CALNAME:Drive Clean Indiana
X-ORIGINAL-URL:https://drivecleanindiana.org
X-WR-CALDESC:Events for Drive Clean Indiana
BEGIN:VTIMEZONE
TZID:America/Chicago
BEGIN:DAYLIGHT
TZOFFSETFROM:-0600
TZOFFSETTO:-0500
TZNAME:CDT
DTSTART:20230312T080000
END:DAYLIGHT
BEGIN:STANDARD
TZOFFSETFROM:-0500
TZOFFSETTO:-0600
TZNAME:CST
DTSTART:20231105T070000
END:STANDARD
END:VTIMEZONE
BEGIN:VEVENT
DTSTART;TZID=America/Chicago:20230809T130000
DTEND;TZID=America/Chicago:20230809T140000
DTSTAMP:20260422T085402
CREATED:20230630T213913Z
LAST-MODIFIED:20230630T213913Z
UID:23747-1691586000-1691589600@drivecleanindiana.org
SUMMARY:Aug. 9\, 2023 - EPA Clean School Bus Program: OIG Fraud Prevention & Best Practices Webinar
DESCRIPTION:Aug. 9\, 2023\, 1 p.m. – 2 p.m. – EPA Clean School Bus Program: OIG Fraud Prevention & Best Practices Webinar \nJoin EPA as they host a series of informative webinars regarding the 2023 Clean School Bus (CSB) Grant Program. Webinars will cover various topics such as fleet planning\, training and maintenance for clean school buses\, funding opportunities\, and more. \n \n
URL:https://drivecleanindiana.org/event/aug-9-2023-epa-clean-school-bus-program-oig-fraud-prevention-best-practices-webinar/
ATTACH;FMTTYPE=image/png:https://drivecleanindiana.org/wp-content/uploads/2023/06/Publication2.png
END:VEVENT
END:VCALENDAR