BEGIN:VCALENDAR
VERSION:2.0
PRODID:-//Drive Clean Indiana - ECPv4.9.13//NONSGML v1.0//EN
CALSCALE:GREGORIAN
METHOD:PUBLISH
X-WR-CALNAME:Drive Clean Indiana
X-ORIGINAL-URL:https://drivecleanindiana.org
X-WR-CALDESC:Events for Drive Clean Indiana
BEGIN:VTIMEZONE
TZID:America/Chicago
BEGIN:DAYLIGHT
TZOFFSETFROM:-0600
TZOFFSETTO:-0500
TZNAME:CDT
DTSTART:20250309T080000
END:DAYLIGHT
BEGIN:STANDARD
TZOFFSETFROM:-0500
TZOFFSETTO:-0600
TZNAME:CST
DTSTART:20251102T070000
END:STANDARD
END:VTIMEZONE
BEGIN:VEVENT
DTSTART;TZID=America/Chicago:20250826T093000
DTEND;TZID=America/Chicago:20250826T170000
DTSTAMP:20260422T042935
CREATED:20250115T195522Z
LAST-MODIFIED:20250819T142355Z
UID:25236-1756200600-1756227600@drivecleanindiana.org
SUMMARY:Aug. 26\, 2025 - 13th Annual Clean Air Golf Outing
DESCRIPTION:WE ARE SOLD OUT\, BUT SPONSORSHIP OPPORTUNITIES ARE STILL AVAILABLE!!\nJoin us for one of our most popular events of the year\, the 13th Annual Clean Air Golf Outing! The event will feature all of the activities our annual golf outing is known for – fun on the links\, delicious meals\, cocktails\, raffles\, on-course contests\, networking and more! \nWe’ll be back at the beautiful White Hawk Country Club\, 1001 White Hawk Drive in Crown Point\, Indiana. \n \n\nEVENT SPONSORS\nHOSPITALITY SPONSORS\n \n \n \nCART SPONSORS\n \n \n \nDRIVING RANGE SPONSORHOLE SPONSORS\n\n\n \n \n \n \n \n \n \n \n \n \n \n \n \n \n \n \n\n
URL:https://drivecleanindiana.org/event/aug-26-2024-13th-annual-clean-air-golf-outing/
LOCATION:White Hawk Country Club\, 1001 White Hawk Dr.\, Crown Point\, IN\, 46307\, United States
ATTACH;FMTTYPE=image/jpeg:https://drivecleanindiana.org/wp-content/uploads/2025/01/kkQuQcfY.jpeg
END:VEVENT
END:VCALENDAR