BEGIN:VCALENDAR
VERSION:2.0
PRODID:-//Drive Clean Indiana - ECPv4.9.13//NONSGML v1.0//EN
CALSCALE:GREGORIAN
METHOD:PUBLISH
X-WR-CALNAME:Drive Clean Indiana
X-ORIGINAL-URL:https://drivecleanindiana.org
X-WR-CALDESC:Events for Drive Clean Indiana
BEGIN:VTIMEZONE
TZID:America/Chicago
BEGIN:DAYLIGHT
TZOFFSETFROM:-0600
TZOFFSETTO:-0500
TZNAME:CDT
DTSTART:20240310T080000
END:DAYLIGHT
BEGIN:STANDARD
TZOFFSETFROM:-0500
TZOFFSETTO:-0600
TZNAME:CST
DTSTART:20241103T070000
END:STANDARD
END:VTIMEZONE
BEGIN:VEVENT
DTSTART;TZID=America/Chicago:20240427T100000
DTEND;TZID=America/Chicago:20240427T140000
DTSTAMP:20260423T090349
CREATED:20240318T184201Z
LAST-MODIFIED:20240318T184253Z
UID:24455-1714212000-1714226400@drivecleanindiana.org
SUMMARY:April 27\, 2024 - Indy Creation Fest
DESCRIPTION:April 27\, 2024 – Indy Creation Fest – Drive Electric Earth Month \n10:00am – 2:00pm EDT \nGrace Church Noblesville \n5504 E. 146th Street Noblesville\, IN 46062 \nJoin us for the third annual Indy Creation Fest\, an open-house style celebration of our calling to love God and our neighbors by joyfully caring for creation! All are welcome to learn about and see electric vehicles as well as talk to current EV owners about driving electric.\n\n\nCurrent EV owners\, sign up to bring your EV to add to our display! If possible\, please arrive by 9:30 to setup. \n\nRead more and register HERE! \n
URL:https://drivecleanindiana.org/event/april-27-2024-indy-creation-fest/
ATTACH;FMTTYPE=image/png:https://drivecleanindiana.org/wp-content/uploads/2024/03/drive-electric-earth-month-logo.png
END:VEVENT
END:VCALENDAR