BEGIN:VCALENDAR
VERSION:2.0
PRODID:-//Drive Clean Indiana - ECPv4.9.13//NONSGML v1.0//EN
CALSCALE:GREGORIAN
METHOD:PUBLISH
X-WR-CALNAME:Drive Clean Indiana
X-ORIGINAL-URL:https://drivecleanindiana.org
X-WR-CALDESC:Events for Drive Clean Indiana
BEGIN:VTIMEZONE
TZID:America/Chicago
BEGIN:DAYLIGHT
TZOFFSETFROM:-0600
TZOFFSETTO:-0500
TZNAME:CDT
DTSTART:20260308T080000
END:DAYLIGHT
BEGIN:STANDARD
TZOFFSETFROM:-0500
TZOFFSETTO:-0600
TZNAME:CST
DTSTART:20261101T070000
END:STANDARD
END:VTIMEZONE
BEGIN:VEVENT
DTSTART;TZID=America/Chicago:20260425T120000
DTEND;TZID=America/Chicago:20260425T150000
DTSTAMP:20260421T195337
CREATED:20260421T155453Z
LAST-MODIFIED:20260421T155453Z
UID:26316-1777118400-1777129200@drivecleanindiana.org
SUMMARY:April 25\, 2026 - Michigan City Sustainability Commission's Earth Month Extravaganza
DESCRIPTION:Join Michigan City Sustainability Commission in partnership with MC Parks Department & Tree Board for a FREE\, all-ages\, environmental celebration!\n9:00 Tree Planting at\, & hosted by Walker Street Community Garden\n10:00 Beach Clean-up hosted by IDEM & LaPorte County Recycling.\n12:00-3 Indoor activities\nGuided Hike or 2\nSeed Swap hosted by Walker Street Community GardenBring seeds to swap!\nTree Giveaway offered by the Michigan City Tree Board\nSporting Equipment SwapBring your previously loved helmets\, mitts\, cleats\, pads\, etcContact Andie at andie.goinggreen@gmail.comto arrange drop off before the event\n \n
URL:https://drivecleanindiana.org/event/april-25-2026-michigan-city-sustainability-commissions-earth-month-extravaganza/
LOCATION:Michigan City Senior Center\, 2 Lakeshore Drive\, Michigan City\, IN\, 46360\, United States
END:VEVENT
END:VCALENDAR