BEGIN:VCALENDAR
VERSION:2.0
PRODID:-//Drive Clean Indiana - ECPv4.9.13//NONSGML v1.0//EN
CALSCALE:GREGORIAN
METHOD:PUBLISH
X-WR-CALNAME:Drive Clean Indiana
X-ORIGINAL-URL:https://drivecleanindiana.org
X-WR-CALDESC:Events for Drive Clean Indiana
BEGIN:VTIMEZONE
TZID:America/Chicago
BEGIN:DAYLIGHT
TZOFFSETFROM:-0600
TZOFFSETTO:-0500
TZNAME:CDT
DTSTART:20240310T080000
END:DAYLIGHT
BEGIN:STANDARD
TZOFFSETFROM:-0500
TZOFFSETTO:-0600
TZNAME:CST
DTSTART:20241103T070000
END:STANDARD
END:VTIMEZONE
BEGIN:VEVENT
DTSTART;TZID=America/Chicago:20240424T130000
DTEND;TZID=America/Chicago:20240424T140000
DTSTAMP:20260423T091106
CREATED:20240411T161400Z
LAST-MODIFIED:20240411T171010Z
UID:24521-1713963600-1713967200@drivecleanindiana.org
SUMMARY:April 24 - 1 PM ET – Charging Best Practices\, Incorporating Charge Management\, Solar\, Battery Storage\, and Vehicle-to-Grid (V2G)
DESCRIPTION:April 24 @ 1 PM ET – Charging Best Practices\, Incorporating Charge Management\, Solar\, Battery Storage\, and Vehicle-to-Grid (V2G) \nThe EPA Clean School Bus Program is also co-hosting a SEPARATE webinar series with the Joint Office of Energy and Transportation about various technical assistance topics related to clean school buses. Each webinar will be on the 4th Wednesday of the month at 1 PM ET. \n  \n \n
URL:https://drivecleanindiana.org/event/april-24-1-pm-et-charging-best-practices-incorporating-charge-management-solar-battery-storage-and-vehicle-to-grid-v2g/
ATTACH;FMTTYPE=image/jpeg:https://drivecleanindiana.org/wp-content/uploads/2023/11/cleanschoolbuslogo.jpg
END:VEVENT
END:VCALENDAR