BEGIN:VCALENDAR
VERSION:2.0
PRODID:-//Drive Clean Indiana - ECPv4.9.13//NONSGML v1.0//EN
CALSCALE:GREGORIAN
METHOD:PUBLISH
X-WR-CALNAME:Drive Clean Indiana
X-ORIGINAL-URL:https://drivecleanindiana.org
X-WR-CALDESC:Events for Drive Clean Indiana
BEGIN:VTIMEZONE
TZID:America/Indiana/Indianapolis
BEGIN:DAYLIGHT
TZOFFSETFROM:-0500
TZOFFSETTO:-0400
TZNAME:EDT
DTSTART:20230312T070000
END:DAYLIGHT
BEGIN:STANDARD
TZOFFSETFROM:-0400
TZOFFSETTO:-0500
TZNAME:EST
DTSTART:20231105T060000
END:STANDARD
END:VTIMEZONE
BEGIN:VEVENT
DTSTART;TZID=America/Indiana/Indianapolis:20230422T100000
DTEND;TZID=America/Indiana/Indianapolis:20230422T130000
DTSTAMP:20260424T084600
CREATED:20230411T140707Z
LAST-MODIFIED:20230411T140707Z
UID:23455-1682157600-1682168400@drivecleanindiana.org
SUMMARY:April 22\, 2023 - New Albany – Drive Electric Earth Day
DESCRIPTION:April 22\, 2023\, 10 a.m. – 1 p.m. EST – New Albany – Drive Electric Earth Day – 301 E Market Street\, New Albany\, IN \nEarth Charter Indiana and SoIN Citizens Climate Lobby\, along with Drive Electric Earth Day and several other sponsors\, are hosting an Earth Day event in New Albany\, IN on Saturday\, April 22\, 2023.  The event is called “EV’s to trees: Driving Electric Earth Day 2023”.  The location for the event is 301 E. Market Street\, one block away from the New Albany Farmer’s Market.  Evolve KY\, an electric vehicle owner group\, is bringing over their personal EV’s for the purpose of educating people about their experiences with them.  Citizens Climate Lobby will be utilizing the New Albany Tree Trail to teach about the importance of trees to creating a sustainable community and also educating people about bills at the national level that support sustainability.  Earth Charter Indiana will be providing environmental educational materials and information about how Earth Charter Indiana can support groups working for a sustainable future in Indiana.\n\n\n  \n
URL:https://drivecleanindiana.org/event/april-22-2023-new-albany-drive-electric-earth-day/
LOCATION:St. Marks Church\, 301 E. Market St.\, New Albany\, IN
ATTACH;FMTTYPE=image/png:https://drivecleanindiana.org/wp-content/uploads/2023/04/Drive-Electric-Earth-Day-New-Albany.png
END:VEVENT
END:VCALENDAR