BEGIN:VCALENDAR
VERSION:2.0
PRODID:-//Drive Clean Indiana - ECPv4.9.13//NONSGML v1.0//EN
CALSCALE:GREGORIAN
METHOD:PUBLISH
X-WR-CALNAME:Drive Clean Indiana
X-ORIGINAL-URL:https://drivecleanindiana.org
X-WR-CALDESC:Events for Drive Clean Indiana
BEGIN:VTIMEZONE
TZID:America/Indiana/Indianapolis
BEGIN:DAYLIGHT
TZOFFSETFROM:-0500
TZOFFSETTO:-0400
TZNAME:EDT
DTSTART:20240310T070000
END:DAYLIGHT
BEGIN:STANDARD
TZOFFSETFROM:-0400
TZOFFSETTO:-0500
TZNAME:EST
DTSTART:20241103T060000
END:STANDARD
END:VTIMEZONE
BEGIN:VEVENT
DTSTART;TZID=America/Indiana/Indianapolis:20240420T090000
DTEND;TZID=America/Indiana/Indianapolis:20240420T130000
DTSTAMP:20260423T090932
CREATED:20240318T183444Z
LAST-MODIFIED:20240318T183525Z
UID:24452-1713603600-1713618000@drivecleanindiana.org
SUMMARY:April 20\, 2024 - Earth Day 2024 Plastics vs. Planet
DESCRIPTION:April 20\, 2024 9:00am- 1:00pm EDT \nEarth Day 2024 Plastics vs. Planet \n303 E. Market St. New Albany\, IN 47150 \nCitizens Climate Lobby and Co-Resiliency Coordinators for Earth Charter Indiana are planning an Earth Day Celebration in New Albany on Saturday\, April 20th.  Evolve KY is joining this celebration with the theme of “Plastics vs. Planet”.  Evolve KY\, a non-profit promoter of clean energy transportation will offer a display of late model EVs and will offer ride ‘n drives for the interested public. \nRead more and register HERE! \n
URL:https://drivecleanindiana.org/event/april-20-2024-earth-day-2024-plastics-vs-planet/
ATTACH;FMTTYPE=image/png:https://drivecleanindiana.org/wp-content/uploads/2024/03/drive-electric-earth-month-logo.png
END:VEVENT
END:VCALENDAR