BEGIN:VCALENDAR
VERSION:2.0
PRODID:-//Drive Clean Indiana - ECPv4.9.13//NONSGML v1.0//EN
CALSCALE:GREGORIAN
METHOD:PUBLISH
X-WR-CALNAME:Drive Clean Indiana
X-ORIGINAL-URL:https://drivecleanindiana.org
X-WR-CALDESC:Events for Drive Clean Indiana
BEGIN:VTIMEZONE
TZID:America/Chicago
BEGIN:DAYLIGHT
TZOFFSETFROM:-0600
TZOFFSETTO:-0500
TZNAME:CDT
DTSTART:20230312T080000
END:DAYLIGHT
BEGIN:STANDARD
TZOFFSETFROM:-0500
TZOFFSETTO:-0600
TZNAME:CST
DTSTART:20231105T070000
END:STANDARD
END:VTIMEZONE
BEGIN:VEVENT
DTSTART;TZID=America/Chicago:20230420T130000
DTEND;TZID=America/Chicago:20230420T140000
DTSTAMP:20260424T072046
CREATED:20230414T155300Z
LAST-MODIFIED:20230414T160128Z
UID:23470-1681995600-1681999200@drivecleanindiana.org
SUMMARY:April 20\, 2023 - Championing Charging on Public Lands Webinar: A National Parks Week Celebration
DESCRIPTION:April 20\, 2023\, 1 p.m. CST – Championing Charging on Public Lands Webinar: A National Parks Week Celebration \n\n\nTo kick off the Electrification Coalition’s celebration of America’s national parks\, join us for a special edition of our charging infrastructure webinar series. In addition to learning the best strategies to deploy EV charging\, we’ll explore how to support widespread transportation electrification at national parks.  \nWebinar speakers:\nKitty Adams\, Adopt a Charger\n Andrew Grossmann\, Colorado Office of Economic Development and International Trade\nAdditional speakers to be announced \n \n  \n\n\n
URL:https://drivecleanindiana.org/event/april-20-2023-championing-charging-on-public-lands-webinar-a-national-parks-week-celebration/
ATTACH;FMTTYPE=image/png:https://drivecleanindiana.org/wp-content/uploads/2023/04/Championing-Charging-on-Public-Lands-A-National-Parks-Week-Celebration-04-20-2023.png
END:VEVENT
END:VCALENDAR