BEGIN:VCALENDAR
VERSION:2.0
PRODID:-//Drive Clean Indiana - ECPv4.9.13//NONSGML v1.0//EN
CALSCALE:GREGORIAN
METHOD:PUBLISH
X-WR-CALNAME:Drive Clean Indiana
X-ORIGINAL-URL:https://drivecleanindiana.org
X-WR-CALDESC:Events for Drive Clean Indiana
BEGIN:VTIMEZONE
TZID:America/New_York
BEGIN:DAYLIGHT
TZOFFSETFROM:-0500
TZOFFSETTO:-0400
TZNAME:EDT
DTSTART:20230312T070000
END:DAYLIGHT
BEGIN:STANDARD
TZOFFSETFROM:-0400
TZOFFSETTO:-0500
TZNAME:EST
DTSTART:20231105T060000
END:STANDARD
END:VTIMEZONE
BEGIN:VEVENT
DTSTART;TZID=America/New_York:20230419T103000
DTEND;TZID=America/New_York:20230419T130000
DTSTAMP:20260424T071910
CREATED:20230201T201321Z
LAST-MODIFIED:20230215T160515Z
UID:23191-1681900200-1681909200@drivecleanindiana.org
SUMMARY:April 19\, 2023 - MACOG Partners for Clean Air Awards Luncheon
DESCRIPTION:Register now for the Michiana Area Council of Governments‘ Annual Partners for Clean Air Awards Luncheon.  This year it’s scheduled for April 19\, 2023 10:30 a.m. – 1 p.m. ET It will be held at the Matterhorn Conference Center\, 2041 Cassopolis St. Elkhart\, IN. \nThis event provides an excellent opportunity to learn more about local clean air and sustainability initiatives\, funding opportunities and network with professionals in the MACOG region. Stay tuned for more details! \n \nWould you like to recognize a business\, individual\, and/or organization in our region that are going above and beyond to improve air quality in our region? You may submit more than one nomination form to make multiple recommendations.  Nominations accepted until March 3\, 2023. \nNOMINATION FORM \nIf you’d like to be a sponsor for this event or if you have any questions\, please contact Leah Thill at 875-287-1829 ext. 801 or lthill@macog.com. \nTHANK YOU SPONSORS \n \n \n
URL:https://drivecleanindiana.org/event/april-19-2023-macog-partners-for-clean-air-awards-luncheon/
LOCATION:Matterhorn Conference Center\, 2041 Cassopolis St.\, Elkhart\, IN\, 46514\, United States
ATTACH;FMTTYPE=image/png:https://drivecleanindiana.org/wp-content/uploads/2022/02/MACOG-PCA-Luncheon-2022-Graphic-for-Web-e1676476725477.png
END:VEVENT
END:VCALENDAR