BEGIN:VCALENDAR
VERSION:2.0
PRODID:-//Drive Clean Indiana - ECPv4.9.13//NONSGML v1.0//EN
CALSCALE:GREGORIAN
METHOD:PUBLISH
X-WR-CALNAME:Drive Clean Indiana
X-ORIGINAL-URL:https://drivecleanindiana.org
X-WR-CALDESC:Events for Drive Clean Indiana
BEGIN:VTIMEZONE
TZID:America/Indiana/Indianapolis
BEGIN:DAYLIGHT
TZOFFSETFROM:-0500
TZOFFSETTO:-0400
TZNAME:EDT
DTSTART:20230312T070000
END:DAYLIGHT
BEGIN:STANDARD
TZOFFSETFROM:-0400
TZOFFSETTO:-0500
TZNAME:EST
DTSTART:20231105T060000
END:STANDARD
END:VTIMEZONE
BEGIN:VEVENT
DTSTART;TZID=America/Indiana/Indianapolis:20230419T180000
DTEND;TZID=America/Indiana/Indianapolis:20230419T190000
DTSTAMP:20260424T072044
CREATED:20230411T134419Z
LAST-MODIFIED:20230411T134956Z
UID:23431-1681927200-1681930800@drivecleanindiana.org
SUMMARY:April 19\, 2023 - Hoosier EVA Presents: EV 101 at the Greenwood Public Library
DESCRIPTION:April 19\, 2023\, 6 p.m. – 7 p.m. EST – Hoosier EVA Presents: EV 101 at the Greenwood Public Library – 310 S. Meridian\, Greenwood\, IN \nAre you curious about electric cars but don’t know where to start? Join representatives of the Hoosier Electric Vehicle Association (Hoosier EVA) to get your questions answered! Hoosier EVA is a brand-neutral\, all volunteer group with a goal of educating the public regarding the benefits of electric vehicles. During this in-person event\, EV owners will also give a show-and-tell of their vehicles and share their experiences with several different makes and models. Registration is required. \n \n
URL:https://drivecleanindiana.org/event/april-19-2023-hoosier-eva-presents-ev-101-at-the-greenwood-public-library/
LOCATION:Greenwood Public Library\, 310 S. Meridian\, Greenwood\, 46143\, United States
ATTACH;FMTTYPE=image/png:https://drivecleanindiana.org/wp-content/uploads/2023/04/Hoosier-EVA-EV-101-GPL.png
END:VEVENT
END:VCALENDAR